BEGIN:VCALENDAR
VERSION:2.0
PRODID:-//Morvan Randonnées - ECPv6.15.20//NONSGML v1.0//EN
CALSCALE:GREGORIAN
METHOD:PUBLISH
X-WR-CALNAME:Morvan Randonnées
X-ORIGINAL-URL:https://morvan-randonnees.fr
X-WR-CALDESC:Évènements pour Morvan Randonnées
REFRESH-INTERVAL;VALUE=DURATION:PT1H
X-Robots-Tag:noindex
X-PUBLISHED-TTL:PT1H
BEGIN:VTIMEZONE
TZID:Europe/Paris
BEGIN:DAYLIGHT
TZOFFSETFROM:+0100
TZOFFSETTO:+0200
TZNAME:CEST
DTSTART:20250330T010000
END:DAYLIGHT
BEGIN:STANDARD
TZOFFSETFROM:+0200
TZOFFSETTO:+0100
TZNAME:CET
DTSTART:20251026T010000
END:STANDARD
BEGIN:DAYLIGHT
TZOFFSETFROM:+0100
TZOFFSETTO:+0200
TZNAME:CEST
DTSTART:20260329T010000
END:DAYLIGHT
BEGIN:STANDARD
TZOFFSETFROM:+0200
TZOFFSETTO:+0100
TZNAME:CET
DTSTART:20261025T010000
END:STANDARD
BEGIN:DAYLIGHT
TZOFFSETFROM:+0100
TZOFFSETTO:+0200
TZNAME:CEST
DTSTART:20270328T010000
END:DAYLIGHT
BEGIN:STANDARD
TZOFFSETFROM:+0200
TZOFFSETTO:+0100
TZNAME:CET
DTSTART:20271031T010000
END:STANDARD
END:VTIMEZONE
BEGIN:VEVENT
DTSTART;VALUE=DATE:20260507
DTEND;VALUE=DATE:20260508
DTSTAMP:20260421T061403
CREATED:20260323T163228Z
LAST-MODIFIED:20260324T091018Z
UID:10000295-1778112000-1778198399@morvan-randonnees.fr
SUMMARY:Randonnée classique - Montagne Saint-Sebastien
DESCRIPTION:Informations pratiques\n\nDépart à 13h45 – Parking Pierre de Couhard\nRendez-vous au parking de l’Hexagone à Autun à 13h30\nInscription OBLIGATOIRE : cliquez ICI\n\nRappel de quelques règles pour randonner en toute sécurité : \n\nObligation de respecter le code de la route dès lors qu’on est sur une route (qu’on soit en ville ou en\ncampagne)\nObligation de traverser les routes en peigne\, donc regroupement obligatoire des marcheurs avant la\ntraversée.\nEtre responsable de nos chiens afin qu’ils ne créaient pas d’accidents. Obligation de les tenir en laisse sur\nles routes\, lors des traversées de villages et de fermes\, en forêt domaniale et chaque fois qu’il le sera demandé\npar l’animateur.\nObligation de nommer un serre file arrière en début de randonnée. Il aidera l’organisateur à sécuriser la\nsortie.\nMerci d’écouter et de respecter les consignes données par l’organisateur tout au long de la randonnée.
URL:https://morvan-randonnees.fr/event/randonnee-classique-montagne-saint-sebastien/
LOCATION:Couhard\, France
CATEGORIES:Randonnée classique,Randonnées
END:VEVENT
BEGIN:VEVENT
DTSTART;VALUE=DATE:20260513
DTEND;VALUE=DATE:20260514
DTSTAMP:20260421T061403
CREATED:20260324T085156Z
LAST-MODIFIED:20260324T091010Z
UID:10000307-1778630400-1778716799@morvan-randonnees.fr
SUMMARY:Randonnée douce - Mont Beuvray
DESCRIPTION:Informations pratiques\n\nDépart à 13h45 – Parking musée Bibracte\nRendez-vous au parking de l’Hexagone à Autun à 13h15\nInscription OBLIGATOIRE : cliquez ICI
URL:https://morvan-randonnees.fr/event/randonnee-douce-mont-beuvray-3/
LOCATION:Mont Beuvray\, France
CATEGORIES:Randonnée douce,Randonnées
END:VEVENT
BEGIN:VEVENT
DTSTART;VALUE=DATE:20260610
DTEND;VALUE=DATE:20260611
DTSTAMP:20260421T061403
CREATED:20260324T082931Z
LAST-MODIFIED:20260324T091145Z
UID:10000303-1781049600-1781135999@morvan-randonnees.fr
SUMMARY:Randonnée douce - Lac de Saint Agnan
DESCRIPTION:Informations pratiques\n\nDépart à 11h – Parking église de Saint Agnan\nPrévoir le piquenique\nRendez-vous au parking de l’Hexagone à Autun à 10h\nInscription OBLIGATOIRE : cliquez ICI
URL:https://morvan-randonnees.fr/event/randonnee-douce-lac-de-saint-agnan-3/
LOCATION:Lac de Saint Agnan\, France
CATEGORIES:Randonnée douce,Randonnées
END:VEVENT
END:VCALENDAR