BEGIN:VCALENDAR
VERSION:2.0
PRODID:-//Morvan Randonnées - ECPv6.15.20//NONSGML v1.0//EN
CALSCALE:GREGORIAN
METHOD:PUBLISH
X-ORIGINAL-URL:https://morvan-randonnees.fr
X-WR-CALDESC:Évènements pour Morvan Randonnées
REFRESH-INTERVAL;VALUE=DURATION:PT1H
X-Robots-Tag:noindex
X-PUBLISHED-TTL:PT1H
BEGIN:VTIMEZONE
TZID:Europe/Paris
BEGIN:DAYLIGHT
TZOFFSETFROM:+0100
TZOFFSETTO:+0200
TZNAME:CEST
DTSTART:20230326T010000
END:DAYLIGHT
BEGIN:STANDARD
TZOFFSETFROM:+0200
TZOFFSETTO:+0100
TZNAME:CET
DTSTART:20231029T010000
END:STANDARD
BEGIN:DAYLIGHT
TZOFFSETFROM:+0100
TZOFFSETTO:+0200
TZNAME:CEST
DTSTART:20240331T010000
END:DAYLIGHT
BEGIN:STANDARD
TZOFFSETFROM:+0200
TZOFFSETTO:+0100
TZNAME:CET
DTSTART:20241027T010000
END:STANDARD
BEGIN:DAYLIGHT
TZOFFSETFROM:+0100
TZOFFSETTO:+0200
TZNAME:CEST
DTSTART:20250330T010000
END:DAYLIGHT
BEGIN:STANDARD
TZOFFSETFROM:+0200
TZOFFSETTO:+0100
TZNAME:CET
DTSTART:20251026T010000
END:STANDARD
BEGIN:DAYLIGHT
TZOFFSETFROM:+0100
TZOFFSETTO:+0200
TZNAME:CEST
DTSTART:20260329T010000
END:DAYLIGHT
BEGIN:STANDARD
TZOFFSETFROM:+0200
TZOFFSETTO:+0100
TZNAME:CET
DTSTART:20261025T010000
END:STANDARD
BEGIN:DAYLIGHT
TZOFFSETFROM:+0100
TZOFFSETTO:+0200
TZNAME:CEST
DTSTART:20270328T010000
END:DAYLIGHT
BEGIN:STANDARD
TZOFFSETFROM:+0200
TZOFFSETTO:+0100
TZNAME:CET
DTSTART:20271031T010000
END:STANDARD
END:VTIMEZONE
BEGIN:VEVENT
DTSTART;VALUE=DATE:20260304
DTEND;VALUE=DATE:20260305
DTSTAMP:20260422T212449
CREATED:20251216T135930Z
LAST-MODIFIED:20251216T135930Z
UID:10000276-1772582400-1772668799@morvan-randonnees.fr
SUMMARY:Randonnée douce - Saint-Emiland
DESCRIPTION:Informations pratiques\n\nRDV à 13h45 – Parking église\nCovoiturage : départ 13h25 – Rendez-vous au parking de l’Hexagone à Autun\n\nInscription OBLIGATOIRE : cliquez ICI
URL:https://morvan-randonnees.fr/event/randonnee-douce-saint-emiland-4/
LOCATION:Saint Emiland\, Saint Emiland\, France
CATEGORIES:Randonnée douce,Randonnées
END:VEVENT
BEGIN:VEVENT
DTSTART;VALUE=DATE:20250522
DTEND;VALUE=DATE:20250523
DTSTAMP:20260422T212449
CREATED:20250312T161902Z
LAST-MODIFIED:20250312T161959Z
UID:10000219-1747872000-1747958399@morvan-randonnees.fr
SUMMARY:Randonnée classique - La Celle-en-Morvan
DESCRIPTION:Informations pratiques\n\nRdv à 13h45 – Parking église\nCovoiturage : départ 13h15 – Rendez-vous au parking de l’Hexagone à Autun\nInscription OBLIGATOIRE : cliquez ICI\n\nRappel de quelques règles pour randonner en toute sécurité : \n\nObligation de respecter le code de la route dès lors qu’on est sur une route (qu’on soit en ville ou en\ncampagne)\nObligation de traverser les routes en peigne\, donc regroupement obligatoire des marcheurs avant la\ntraversée.\nEtre responsable de nos chiens afin qu’ils ne créaient pas d’accidents. Obligation de les tenir en laisse sur\nles routes\, lors des traversées de villages et de fermes.\nObligation de nommer un serre file arrière en début de randonnée. Il aidera l’organisateur à sécuriser la\nsortie.\nMerci d’écouter et de respecter les consignes données par l’organisateur tout au long de la randonnée.
URL:https://morvan-randonnees.fr/event/randonnee-classique-la-celle-en-morvan/
LOCATION:La Celle-en-Morvan\, France
CATEGORIES:Randonnée classique,Randonnées
END:VEVENT
BEGIN:VEVENT
DTSTART;VALUE=DATE:20250430
DTEND;VALUE=DATE:20250501
DTSTAMP:20260422T212449
CREATED:20250312T155051Z
LAST-MODIFIED:20250312T155155Z
UID:10000207-1745971200-1746057599@morvan-randonnees.fr
SUMMARY:Randonnée douce - Saint-Emiland
DESCRIPTION:Informations pratiques\n\nRDV à 13h45 – Parking cimetière\nCovoiturage : départ 13h25 – Rendez-vous au parking de l’Hexagone à Autun\nInscription OBLIGATOIRE : cliquez ICI
URL:https://morvan-randonnees.fr/event/randonnee-douce-saint-emiland-3/
LOCATION:Saint Emiland\, Saint Emiland\, France
CATEGORIES:Randonnée douce,Randonnées
END:VEVENT
BEGIN:VEVENT
DTSTART;VALUE=DATE:20250108
DTEND;VALUE=DATE:20250109
DTSTAMP:20260422T212449
CREATED:20250106T142130Z
LAST-MODIFIED:20250106T142326Z
UID:10000163-1736294400-1736380799@morvan-randonnees.fr
SUMMARY:Randonnée douce - Saint-Emiland
DESCRIPTION:Informations pratiques\n\nRDV à 13h45 – Parking cimetière\nCovoiturage : départ 13h25 – Rendez-vous au parking de l’Hexagone à Autun\nInscription OBLIGATOIRE : cliquez ICI
URL:https://morvan-randonnees.fr/event/randonnee-douce-saint-emiland-2/
LOCATION:Saint Emiland\, Saint Emiland\, France
CATEGORIES:Randonnée douce,Randonnées
END:VEVENT
BEGIN:VEVENT
DTSTART;VALUE=DATE:20240206
DTEND;VALUE=DATE:20240207
DTSTAMP:20260422T212449
CREATED:20240108T082935Z
LAST-MODIFIED:20240122T080536Z
UID:10000058-1707177600-1707263999@morvan-randonnees.fr
SUMMARY:Randonnée douce - Saint-Emiland
DESCRIPTION:Informations pratiques\n\nRDV à 13h45 – Parking de l’église\nCovoiturage : départ 13h25 – Rendez-vous au parking de l’Hexagone à Autun\nInscription OBLIGATOIRE : cliquez ICI
URL:https://morvan-randonnees.fr/event/randonnee-douce-saint-emiland/
LOCATION:Saint Emiland\, Saint Emiland\, France
CATEGORIES:Randonnée douce,Randonnées
END:VEVENT
END:VCALENDAR