BEGIN:VCALENDAR
VERSION:2.0
PRODID:-//Morvan Randonnées - ECPv6.15.20//NONSGML v1.0//EN
CALSCALE:GREGORIAN
METHOD:PUBLISH
X-ORIGINAL-URL:https://morvan-randonnees.fr
X-WR-CALDESC:Évènements pour Morvan Randonnées
REFRESH-INTERVAL;VALUE=DURATION:PT1H
X-Robots-Tag:noindex
X-PUBLISHED-TTL:PT1H
BEGIN:VTIMEZONE
TZID:Europe/Paris
BEGIN:DAYLIGHT
TZOFFSETFROM:+0100
TZOFFSETTO:+0200
TZNAME:CEST
DTSTART:20230326T010000
END:DAYLIGHT
BEGIN:STANDARD
TZOFFSETFROM:+0200
TZOFFSETTO:+0100
TZNAME:CET
DTSTART:20231029T010000
END:STANDARD
BEGIN:DAYLIGHT
TZOFFSETFROM:+0100
TZOFFSETTO:+0200
TZNAME:CEST
DTSTART:20240331T010000
END:DAYLIGHT
BEGIN:STANDARD
TZOFFSETFROM:+0200
TZOFFSETTO:+0100
TZNAME:CET
DTSTART:20241027T010000
END:STANDARD
BEGIN:DAYLIGHT
TZOFFSETFROM:+0100
TZOFFSETTO:+0200
TZNAME:CEST
DTSTART:20250330T010000
END:DAYLIGHT
BEGIN:STANDARD
TZOFFSETFROM:+0200
TZOFFSETTO:+0100
TZNAME:CET
DTSTART:20251026T010000
END:STANDARD
BEGIN:DAYLIGHT
TZOFFSETFROM:+0100
TZOFFSETTO:+0200
TZNAME:CEST
DTSTART:20260329T010000
END:DAYLIGHT
BEGIN:STANDARD
TZOFFSETFROM:+0200
TZOFFSETTO:+0100
TZNAME:CET
DTSTART:20261025T010000
END:STANDARD
END:VTIMEZONE
BEGIN:VEVENT
DTSTART;VALUE=DATE:20250605
DTEND;VALUE=DATE:20250606
DTSTAMP:20260422T160158
CREATED:20250312T162228Z
LAST-MODIFIED:20250312T162304Z
UID:10000221-1749081600-1749167999@morvan-randonnees.fr
SUMMARY:Randonnée classique - Villapourçon
DESCRIPTION:Informations pratiques\n\nRdv à 14h– Parking église\nCovoiturage : départ 13h15 – Rendez-vous au parking de l’Hexagone à Autun\nInscription OBLIGATOIRE : cliquez ICI\n\nRappel de quelques règles pour randonner en toute sécurité : \n\nObligation de respecter le code de la route dès lors qu’on est sur une route (qu’on soit en ville ou en\ncampagne)\nObligation de traverser les routes en peigne\, donc regroupement obligatoire des marcheurs avant la\ntraversée.\nEtre responsable de nos chiens afin qu’ils ne créaient pas d’accidents. Obligation de les tenir en laisse sur\nles routes\, lors des traversées de villages et de fermes.\nObligation de nommer un serre file arrière en début de randonnée. Il aidera l’organisateur à sécuriser la\nsortie.\nMerci d’écouter et de respecter les consignes données par l’organisateur tout au long de la randonnée.
URL:https://morvan-randonnees.fr/event/randonnee-classique-villapourcon/
LOCATION:Villapourçon\, France
CATEGORIES:Randonnée classique,Randonnées
END:VEVENT
BEGIN:VEVENT
DTSTART;VALUE=DATE:20250518
DTEND;VALUE=DATE:20250519
DTSTAMP:20260422T160158
CREATED:20250312T161722Z
LAST-MODIFIED:20250312T161722Z
UID:10000218-1747526400-1747612799@morvan-randonnees.fr
SUMMARY:Randonnée classique - Larochemillay
DESCRIPTION:Informations pratiques\n\nRdv à 14h – Parking église\nCovoiturage : départ 13h15 – Rendez-vous au parking de l’Hexagone à Autun\nInscription OBLIGATOIRE : cliquez ICI\n\nRappel de quelques règles pour randonner en toute sécurité : \n\nObligation de respecter le code de la route dès lors qu’on est sur une route (qu’on soit en ville ou en\ncampagne)\nObligation de traverser les routes en peigne\, donc regroupement obligatoire des marcheurs avant la\ntraversée.\nEtre responsable de nos chiens afin qu’ils ne créaient pas d’accidents. Obligation de les tenir en laisse sur\nles routes\, lors des traversées de villages et de fermes.\nObligation de nommer un serre file arrière en début de randonnée. Il aidera l’organisateur à sécuriser la\nsortie.\nMerci d’écouter et de respecter les consignes données par l’organisateur tout au long de la randonnée.
URL:https://morvan-randonnees.fr/event/randonnee-classique-larochemillay/
LOCATION:Larochemillay\, France
CATEGORIES:Randonnée classique,Randonnées
END:VEVENT
BEGIN:VEVENT
DTSTART;TZID=Europe/Paris:20250517T093000
DTEND;TZID=Europe/Paris:20250517T113000
DTSTAMP:20260422T160158
CREATED:20250312T153329Z
LAST-MODIFIED:20250312T153340Z
UID:10000195-1747474200-1747481400@morvan-randonnees.fr
SUMMARY:Marche Nordique - Dracy St Loup (nouveau parcours)
DESCRIPTION:Informations pratiques\n\nRDV à 9h30 – Parking Surmoulin face à la tronçonneuse en bois\nPAS DE COVOITURAGE – Rendez vous au point de départ de la randonnée. \nInscription OBLIGATOIRE : cliquez ICI\n\nEquipement pour une séance de marche nordique :  \n\n Chaussures adaptées\nVêtements adaptés en fonction de la météo \nBâtons de marche nordique \nUne bouteille d’eau et un encas (fruits sec\, barre de céréales\, etc.) \nNe sous-estimez pas l’effort produit au cours d’une séance de marche nordique. C’est pourquoi nous insistons sur la nécessité de cet équipement.
URL:https://morvan-randonnees.fr/event/marche-nordique-dracy-st-loup-nouveau-parcours-2/
LOCATION:Dracy St Loup\, France
CATEGORIES:Marche Nordique,Randonnées
END:VEVENT
BEGIN:VEVENT
DTSTART;TZID=Europe/Paris:20250412T093000
DTEND;TZID=Europe/Paris:20250412T113000
DTSTAMP:20260422T160158
CREATED:20250312T153247Z
LAST-MODIFIED:20250312T153301Z
UID:10000194-1744450200-1744457400@morvan-randonnees.fr
SUMMARY:Marche Nordique - Dracy St Loup (nouveau parcours)
DESCRIPTION:Informations pratiques\n\nRDV à 9h30 – Parking Surmoulin face à la tronçonneuse en bois\nPAS DE COVOITURAGE – Rendez vous au point de départ de la randonnée. \nInscription OBLIGATOIRE : cliquez ICI\n\nEquipement pour une séance de marche nordique :  \n\n Chaussures adaptées\nVêtements adaptés en fonction de la météo \nBâtons de marche nordique \nUne bouteille d’eau et un encas (fruits sec\, barre de céréales\, etc.) \nNe sous-estimez pas l’effort produit au cours d’une séance de marche nordique. C’est pourquoi nous insistons sur la nécessité de cet équipement.
URL:https://morvan-randonnees.fr/event/marche-nordique-dracy-st-loup-nouveau-parcours/
LOCATION:Dracy St Loup\, France
CATEGORIES:Marche Nordique,Randonnées
END:VEVENT
BEGIN:VEVENT
DTSTART;VALUE=DATE:20250410
DTEND;VALUE=DATE:20250411
DTSTAMP:20260422T160158
CREATED:20250312T160744Z
LAST-MODIFIED:20250312T160841Z
UID:10000214-1744243200-1744329599@morvan-randonnees.fr
SUMMARY:Randonnée classique - Montigny-en-Morvan
DESCRIPTION:Informations pratiques\n\nRdv à 14h – Parking église\nCovoiturage : départ 13h15 – Rendez-vous au parking de l’Hexagone à Autun\nInscription OBLIGATOIRE : cliquez ICI\n\nRappel de quelques règles pour randonner en toute sécurité : \n\nObligation de respecter le code de la route dès lors qu’on est sur une route (qu’on soit en ville ou en\ncampagne)\nObligation de traverser les routes en peigne\, donc regroupement obligatoire des marcheurs avant la\ntraversée.\nEtre responsable de nos chiens afin qu’ils ne créaient pas d’accidents. Obligation de les tenir en laisse sur\nles routes\, lors des traversées de villages et de fermes.\nObligation de nommer un serre file arrière en début de randonnée. Il aidera l’organisateur à sécuriser la\nsortie.\nMerci d’écouter et de respecter les consignes données par l’organisateur tout au long de la randonnée.
URL:https://morvan-randonnees.fr/event/randonnee-classique-montigny-en-morvan/
LOCATION:Montigny-en-Morvan\, France
CATEGORIES:Randonnée classique,Randonnées
END:VEVENT
BEGIN:VEVENT
DTSTART;TZID=Europe/Paris:20250329T093000
DTEND;TZID=Europe/Paris:20250329T113000
DTSTAMP:20260422T160158
CREATED:20250106T145114Z
LAST-MODIFIED:20250106T145114Z
UID:10000176-1743240600-1743247800@morvan-randonnees.fr
SUMMARY:Marche Nordique - Margenne
DESCRIPTION:Informations pratiques\n\nRDV à 9h30 – Parking Transports Fontaine\nPAS DE COVOITURAGE – Rendez vous au point de départ de la randonnée. \nInscription OBLIGATOIRE : cliquez ICI\n\nEquipement pour une séance de marche nordique :  \n\n Chaussures adaptées\nVêtements adaptés en fonction de la météo \nBâtons de marche nordique \nUne bouteille d’eau et un encas (fruits sec\, barre de céréales\, etc.) \nNe sous-estimez pas l’effort produit au cours d’une séance de marche nordique. C’est pourquoi nous insistons sur la nécessité de cet équipement.
URL:https://morvan-randonnees.fr/event/marche-nordique-margenne-15/
LOCATION:Margenne\, Margenne\, SAONE-ET-LOIRE\, 71400\, France
CATEGORIES:Marche Nordique,Randonnées
END:VEVENT
BEGIN:VEVENT
DTSTART;VALUE=DATE:20250313
DTEND;VALUE=DATE:20250314
DTSTAMP:20260422T160158
CREATED:20250106T151959Z
LAST-MODIFIED:20250106T151959Z
UID:10000190-1741824000-1741910399@morvan-randonnees.fr
SUMMARY:Randonnée classique - Barnay
DESCRIPTION:Informations pratiques\n\nRdv à 13h45 – Parking Eglise\nCovoiturage : départ 13h15 – Rendez-vous au parking de l’Hexagone à Autun\nInscription OBLIGATOIRE : cliquez ICI
URL:https://morvan-randonnees.fr/event/randonnee-classique-barnay/
LOCATION:Barnay\, France
CATEGORIES:Randonnée classique,Randonnées
END:VEVENT
BEGIN:VEVENT
DTSTART;VALUE=DATE:20250213
DTEND;VALUE=DATE:20250214
DTSTAMP:20260422T160158
CREATED:20250106T150945Z
LAST-MODIFIED:20250106T151225Z
UID:10000186-1739404800-1739491199@morvan-randonnees.fr
SUMMARY:Randonnée classique - Saint Léger du Bois
DESCRIPTION:Informations pratiques\n\nRdv à 13h45 – Parking Salle des Fêtes\nCovoiturage : départ 13h15 – Rendez-vous au parking de l’Hexagone à Autun\nInscription OBLIGATOIRE : cliquez ICI
URL:https://morvan-randonnees.fr/event/randonnee-classique-saint-leger-du-bois/
LOCATION:Saint Léger du Bois\, France
CATEGORIES:Randonnée classique,Randonnées
END:VEVENT
BEGIN:VEVENT
DTSTART;VALUE=DATE:20250130
DTEND;VALUE=DATE:20250131
DTSTAMP:20260422T160158
CREATED:20250106T150625Z
LAST-MODIFIED:20250106T150625Z
UID:10000184-1738195200-1738281599@morvan-randonnees.fr
SUMMARY:Randonnée classique - Igornay
DESCRIPTION:Informations pratiques\n\nRdv à 13h45 – La Marenne route de St Leger du Bois\nCovoiturage : départ 13h15 – Rendez-vous au parking de l’Hexagone à Autun\nInscription OBLIGATOIRE : cliquez ICI
URL:https://morvan-randonnees.fr/event/randonnee-classique-igornay/
LOCATION:Igornay\, Igornay\, France
CATEGORIES:Randonnée classique,Randonnées
END:VEVENT
BEGIN:VEVENT
DTSTART;TZID=Europe/Paris:20250118T093000
DTEND;TZID=Europe/Paris:20250118T113000
DTSTAMP:20260422T160158
CREATED:20250106T144000Z
LAST-MODIFIED:20250106T144000Z
UID:10000170-1737192600-1737199800@morvan-randonnees.fr
SUMMARY:Marche Nordique - La Comaille
DESCRIPTION:Informations pratiques\n\nRDV à 9h30 – Parking Pepinière Gey\nPAS DE COVOITURAGE – Rendez vous au point de départ de la randonnée. \nInscription OBLIGATOIRE : cliquez ICI\n\nEquipement pour une séance de marche nordique :  \n\n Chaussures adaptées\nVêtements adaptés en fonction de la météo \nBâtons de marche nordique \nUne bouteille d’eau et un encas (fruits sec\, barre de céréales\, etc.) \nNe sous-estimez pas l’effort produit au cours d’une séance de marche nordique. C’est pourquoi nous insistons sur la nécessité de cet équipement.
URL:https://morvan-randonnees.fr/event/marche-nordique-la-comaille-14/
LOCATION:La Comaille\, La Comaille\, 71400\, France
CATEGORIES:Marche Nordique,Randonnées
END:VEVENT
BEGIN:VEVENT
DTSTART;VALUE=DATE:20241212
DTEND;VALUE=DATE:20241213
DTSTAMP:20260422T160158
CREATED:20241028T093212Z
LAST-MODIFIED:20241028T093212Z
UID:10000162-1733961600-1734047999@morvan-randonnees.fr
SUMMARY:Randonnée classique - Cordesse
DESCRIPTION:Informations pratiques\n\nRdv à 13h45 – Parking de Surmoulin\, route d’Arnay le Duc\nCovoiturage : départ 13h25 – Rendez-vous au parking de l’Hexagone à Autun\nInscription OBLIGATOIRE : cliquez ICI
URL:https://morvan-randonnees.fr/event/randonnee-classique-cordesse/
LOCATION:Cordesse
CATEGORIES:Randonnée classique,Randonnées
END:VEVENT
BEGIN:VEVENT
DTSTART;TZID=Europe/Paris:20241207T093000
DTEND;TZID=Europe/Paris:20241207T113000
DTSTAMP:20260422T160158
CREATED:20241028T092019Z
LAST-MODIFIED:20241028T092019Z
UID:10000156-1733563800-1733571000@morvan-randonnees.fr
SUMMARY:Marche Nordique - La Comaille
DESCRIPTION:Informations pratiques\n\nRDV à 9h30 – Parking Pepinière Gey\nPAS DE COVOITURAGE – Rendez vous au point de départ de la randonnée. \nInscription OBLIGATOIRE : cliquez ICI\n\nEquipement pour une séance de marche nordique :  \n\n Chaussures adaptées\nVêtements adaptés en fonction de la météo \nBâtons de marche nordique \nUne bouteille d’eau et un encas (fruits sec\, barre de céréales\, etc.) \nNe sous-estimez pas l’effort produit au cours d’une séance de marche nordique. C’est pourquoi nous insistons sur la nécessité de cet équipement.
URL:https://morvan-randonnees.fr/event/marche-nordique-la-comaille-12/
LOCATION:La Comaille\, La Comaille\, 71400\, France
CATEGORIES:Marche Nordique,Randonnées
END:VEVENT
BEGIN:VEVENT
DTSTART;VALUE=DATE:20241114
DTEND;VALUE=DATE:20241115
DTSTAMP:20260422T160158
CREATED:20241028T092315Z
LAST-MODIFIED:20241028T092326Z
UID:10000157-1731542400-1731628799@morvan-randonnees.fr
SUMMARY:Randonnée classique - Sommant
DESCRIPTION:Informations pratiques\n\nRdv à 13h45 – Parking auberge\nCovoiturage : départ 13h20 – Rendez-vous au parking de l’Hexagone à Autun\nInscription OBLIGATOIRE : cliquez ICI
URL:https://morvan-randonnees.fr/event/randonnee-classique-sommant-2/
LOCATION:sommant\, Sommant\, SAONE-ET-LOIRE\, 71540\, France
CATEGORIES:Randonnée classique,Randonnées
END:VEVENT
BEGIN:VEVENT
DTSTART;TZID=Europe/Paris:20241005T093000
DTEND;TZID=Europe/Paris:20241005T113000
DTSTAMP:20260422T160158
CREATED:20240904T072218Z
LAST-MODIFIED:20240904T072218Z
UID:10000136-1728120600-1728127800@morvan-randonnees.fr
SUMMARY:Marche Nordique - Forêt de Feuillée
DESCRIPTION:Informations pratiques\n\nRDV à 9h30 – Parking maison forestière de Feuillée \nPAS DE COVOITURAGE – Rendez vous au point de départ de la randonnée. \nInscription OBLIGATOIRE : cliquez ICI\n\nEquipement pour une séance de marche nordique :  \n\n Chaussures adaptées\nVêtements adaptés en fonction de la météo \nBâtons de marche nordique \nUne bouteille d’eau et un encas (fruits sec\, barre de céréales\, etc.) \nNe sous-estimez pas l’effort produit au cours d’une séance de marche nordique. C’est pourquoi nous insistons sur la nécessité de cet équipement.
URL:https://morvan-randonnees.fr/event/marche-nordique-foret-de-feuillee-7/
LOCATION:Feuillée\, Feuillée\, France
CATEGORIES:Marche Nordique,Randonnées
END:VEVENT
BEGIN:VEVENT
DTSTART;VALUE=DATE:20241003
DTEND;VALUE=DATE:20241004
DTSTAMP:20260422T160158
CREATED:20240904T073814Z
LAST-MODIFIED:20240905T065701Z
UID:10000144-1727913600-1727999999@morvan-randonnees.fr
SUMMARY:Randonnée classique - Lucenay-l'Évêque
DESCRIPTION:Informations pratiques\n\nRdv à 13h45 – Parking église\nCovoiturage : départ 13h20 – Rendez-vous au parking de l’Hexagone à Autun\nInscription OBLIGATOIRE : cliquez ICI
URL:https://morvan-randonnees.fr/event/randonnee-classique-lucenay-leveque-2/
LOCATION:Lucenay L’Eveque\, Lucenay l'Eveque\, 71540\, France
CATEGORIES:Randonnée classique,Randonnées
END:VEVENT
BEGIN:VEVENT
DTSTART;TZID=Europe/Paris:20240921T093000
DTEND;TZID=Europe/Paris:20240921T113000
DTSTAMP:20260422T160158
CREATED:20240904T071945Z
LAST-MODIFIED:20240904T071945Z
UID:10000134-1726911000-1726918200@morvan-randonnees.fr
SUMMARY:Marche Nordique - Pierre de Couhard
DESCRIPTION:Informations pratiques\n\nRDV à 9h30 – Parking de la Pierre de Couhard\nPAS DE COVOITURAGE – Rendez vous au point de départ de la randonnée. \nInscription OBLIGATOIRE : cliquez ICI\n\nEquipement pour une séance de marche nordique :  \n\n Chaussures adaptées\nVêtements adaptés en fonction de la météo \nBâtons de marche nordique \nUne bouteille d’eau et un encas (fruits sec\, barre de céréales\, etc.) \nNe sous-estimez pas l’effort produit au cours d’une séance de marche nordique. C’est pourquoi nous insistons sur la nécessité de cet équipement.
URL:https://morvan-randonnees.fr/event/marche-nordique-pierre-de-couhard-8/
LOCATION:Couhard\, France
CATEGORIES:Marche Nordique,Randonnées
END:VEVENT
BEGIN:VEVENT
DTSTART;VALUE=DATE:20240919
DTEND;VALUE=DATE:20240920
DTSTAMP:20260422T160158
CREATED:20240904T073247Z
LAST-MODIFIED:20240905T065655Z
UID:10000141-1726704000-1726790399@morvan-randonnees.fr
SUMMARY:Randonnée classique - Reclesne
DESCRIPTION:Informations pratiques\n\nRdv à 13h45 – Parking mairie\nCovoiturage : départ 13h20 – Rendez-vous au parking de l’Hexagone à Autun\nInscription OBLIGATOIRE : cliquez ICI
URL:https://morvan-randonnees.fr/event/randonnee-classique-reclesne-3/
LOCATION:Reclesne\, Reclesne\, France
CATEGORIES:Randonnée classique,Randonnées
END:VEVENT
BEGIN:VEVENT
DTSTART;VALUE=DATE:20240915
DTEND;VALUE=DATE:20240916
DTSTAMP:20260422T160158
CREATED:20240904T073151Z
LAST-MODIFIED:20240905T065653Z
UID:10000140-1726358400-1726444799@morvan-randonnees.fr
SUMMARY:Randonnée classique - LA ROCHEPOT
DESCRIPTION:Informations pratiques\n\nRdv à 13h45 – Parking du château de la Rochepot\nCovoiturage : départ 13h15 – Rendez-vous au parking de l’Hexagone à Autun\nInscription OBLIGATOIRE : cliquez ICI
URL:https://morvan-randonnees.fr/event/randonnee-classique-la-rochepot/
LOCATION:La Rochepot\, France
CATEGORIES:Randonnée classique,Randonnées
END:VEVENT
BEGIN:VEVENT
DTSTART;TZID=Europe/Paris:20240608T093000
DTEND;TZID=Europe/Paris:20240608T113000
DTSTAMP:20260422T160158
CREATED:20240320T084953Z
LAST-MODIFIED:20240320T085116Z
UID:10000116-1717839000-1717846200@morvan-randonnees.fr
SUMMARY:Marche Nordique - Forêt de Feuillée
DESCRIPTION:Informations pratiques\n\nRDV à 9h30 – Parking maison forestière de Feuillée \nPAS DE COVOITURAGE – Rendez vous au point de départ de la randonnée. \nInscription OBLIGATOIRE : cliquez ICI\n\nEquipement pour une séance de marche nordique :  \n\n Chaussures adaptées\nVêtements adaptés en fonction de la météo \nBâtons de marche nordique \nUne bouteille d’eau et un encas (fruits sec\, barre de céréales\, etc.) \nNe sous-estimez pas l’effort produit au cours d’une séance de marche nordique. C’est pourquoi nous insistons sur la nécessité de cet équipement.
URL:https://morvan-randonnees.fr/event/marche-nordique-foret-de-feuillee-4/
LOCATION:Feuillée\, Feuillée\, France
CATEGORIES:Marche Nordique,Randonnées
END:VEVENT
BEGIN:VEVENT
DTSTART;VALUE=DATE:20240606
DTEND;VALUE=DATE:20240607
DTSTAMP:20260422T160158
CREATED:20240320T082900Z
LAST-MODIFIED:20240407T122832Z
UID:10000102-1717632000-1717718399@morvan-randonnees.fr
SUMMARY:Randonnée classique - CIRCUIT DE LA CURE
DESCRIPTION:Informations pratiques\n\nRdv à 9h30 – Pont du Montal\, Dun les Places (58)\nCovoiturage : départ 08h30 – Rendez-vous au parking de l’Hexagone à Autun\nInscription OBLIGATOIRE : cliquez ICI
URL:https://morvan-randonnees.fr/event/randonnee-classique-circuit-de-la-cure/
LOCATION:Dun les Places\, France
CATEGORIES:Randonnée classique,Randonnées
END:VEVENT
BEGIN:VEVENT
DTSTART;TZID=Europe/Paris:20240525T090000
DTEND;TZID=Europe/Paris:20240525T110000
DTSTAMP:20260422T160158
CREATED:20240320T084700Z
LAST-MODIFIED:20240320T084700Z
UID:10000113-1716627600-1716634800@morvan-randonnees.fr
SUMMARY:Marche Nordique - Les Renaudiots
DESCRIPTION:Informations pratiques\n\nRDV à 9h30 – Parking route de Chalon (300m à droite après Magasins Réunis)\nPAS DE COVOITURAGE – Rendez vous au point de départ de la randonnée. \nInscription OBLIGATOIRE : cliquez ICI\n\nEquipement pour une séance de marche nordique :  \n\n Chaussures adaptées\nVêtements adaptés en fonction de la météo \nBâtons de marche nordique \nUne bouteille d’eau et un encas (fruits sec\, barre de céréales\, etc.) \nNe sous-estimez pas l’effort produit au cours d’une séance de marche nordique. C’est pourquoi nous insistons sur la nécessité de cet équipement.
URL:https://morvan-randonnees.fr/event/marche-nordique-les-renaudiots-8/
LOCATION:Les Renaudiots\, Autun\, SAONE-ET-LOIRE\, 71400\, France
CATEGORIES:Marche Nordique,Randonnées
END:VEVENT
BEGIN:VEVENT
DTSTART;VALUE=DATE:20240523
DTEND;VALUE=DATE:20240524
DTSTAMP:20260422T160158
CREATED:20240320T081948Z
LAST-MODIFIED:20240407T122935Z
UID:10000099-1716422400-1716508799@morvan-randonnees.fr
SUMMARY:Randonnée classique - COUCHES
DESCRIPTION:Informations pratiques\n\nRdv à 13h45 – Parking stade\nCovoiturage : départ 13h15 – Rendez-vous au parking de l’Hexagone à Autun\nInscription OBLIGATOIRE : cliquez ICI
URL:https://morvan-randonnees.fr/event/randonnee-classique-couches-3/
LOCATION:Couches\, Parking du Stade\, Couches\, Saône-et-Loire\, 71490\, France
CATEGORIES:Randonnée classique,Randonnées
END:VEVENT
BEGIN:VEVENT
DTSTART;VALUE=DATE:20240505
DTEND;VALUE=DATE:20240506
DTSTAMP:20260422T160158
CREATED:20240320T080618Z
LAST-MODIFIED:20240407T123032Z
UID:10000096-1714867200-1714953599@morvan-randonnees.fr
SUMMARY:Randonnée classique - SAINT AGNAN
DESCRIPTION:Informations pratiques\n\nRdv à 14h – Parking auberge de St Agnan\nCovoiturage : départ 13h – Rendez-vous au parking de l’Hexagone à Autun\nInscription OBLIGATOIRE : cliquez ICI
URL:https://morvan-randonnees.fr/event/randonnee-classique-saint-agnan/
LOCATION:Saint Agnan\, France
CATEGORIES:Randonnée classique,Randonnées
END:VEVENT
BEGIN:VEVENT
DTSTART;VALUE=DATE:20240425
DTEND;VALUE=DATE:20240426
DTSTAMP:20260422T160158
CREATED:20240320T080343Z
LAST-MODIFIED:20240407T123039Z
UID:10000095-1714003200-1714089599@morvan-randonnees.fr
SUMMARY:Randonnée classique - SAINT SERNIN DU BOIS
DESCRIPTION:Informations pratiques\n\nRdv à 13h45 – Parking barrage\nCovoiturage : départ 13h15 – Rendez-vous au parking de l’Hexagone à Autun\nInscription OBLIGATOIRE : cliquez ICI
URL:https://morvan-randonnees.fr/event/randonnee-classique-saint-sernin-du-bois/
LOCATION:Saint sernin du bois\, France
CATEGORIES:Randonnée classique,Randonnées
END:VEVENT
BEGIN:VEVENT
DTSTART;TZID=Europe/Paris:20240420T093000
DTEND;TZID=Europe/Paris:20240420T113000
DTSTAMP:20260422T160158
CREATED:20240320T083903Z
LAST-MODIFIED:20240320T083944Z
UID:10000108-1713605400-1713612600@morvan-randonnees.fr
SUMMARY:Marche Nordique - La Comaille
DESCRIPTION:Informations pratiques\n\nRDV à 9h30 – Parking Pepinière Gey\nPAS DE COVOITURAGE – Rendez vous au point de départ de la randonnée. \nInscription OBLIGATOIRE : cliquez ICI\n\nEquipement pour une séance de marche nordique :  \n\n Chaussures adaptées\nVêtements adaptés en fonction de la météo \nBâtons de marche nordique \nUne bouteille d’eau et un encas (fruits sec\, barre de céréales\, etc.) \nNe sous-estimez pas l’effort produit au cours d’une séance de marche nordique. C’est pourquoi nous insistons sur la nécessité de cet équipement.
URL:https://morvan-randonnees.fr/event/marche-nordique-la-comaille-8/
LOCATION:La Comaille\, La Comaille\, 71400\, France
CATEGORIES:Marche Nordique,Randonnées
END:VEVENT
BEGIN:VEVENT
DTSTART;VALUE=DATE:20240328
DTEND;VALUE=DATE:20240329
DTSTAMP:20260422T160158
CREATED:20240108T100019Z
LAST-MODIFIED:20240108T100034Z
UID:10000073-1711584000-1711670399@morvan-randonnees.fr
SUMMARY:Randonnée classique - Reclesne
DESCRIPTION:Informations pratiques\n\nRdv à 13h45 – Parking mairie\nCovoiturage : départ 13h25 – Rendez-vous au parking de l’Hexagone à Autun\nInscription OBLIGATOIRE : cliquez ICI
URL:https://morvan-randonnees.fr/event/randonnee-classique-reclesne/
LOCATION:Reclesne\, Reclesne\, France
CATEGORIES:Randonnée classique,Randonnées
END:VEVENT
BEGIN:VEVENT
DTSTART;VALUE=DATE:20240305
DTEND;VALUE=DATE:20240306
DTSTAMP:20260422T160158
CREATED:20240108T083459Z
LAST-MODIFIED:20240122T080349Z
UID:10000060-1709596800-1709683199@morvan-randonnees.fr
SUMMARY:Randonnée douce - Etang de Bousson
DESCRIPTION:Informations pratiques\n\nRDV à 13h45 – Parking église St Didier sur Arroux\nCovoiturage : départ 13h20 – Rendez-vous au parking de l’Hexagone à Autun\nInscription OBLIGATOIRE : cliquez ICI
URL:https://morvan-randonnees.fr/event/randonnee-douce-etang-de-bousson/
LOCATION:Saint Didier sur Arroux\, Saint Didier sur Arroux\, France
CATEGORIES:Randonnée douce,Randonnées
END:VEVENT
BEGIN:VEVENT
DTSTART;VALUE=DATE:20240229
DTEND;VALUE=DATE:20240301
DTSTAMP:20260422T160158
CREATED:20240108T085439Z
LAST-MODIFIED:20240108T085543Z
UID:10000069-1709164800-1709251199@morvan-randonnees.fr
SUMMARY:Randonnée classique - Mine de Maine
DESCRIPTION:Informations pratiques\n\nRdv à 13h45 – Parking ancien restaurant Daché Reclesne\nCovoiturage : départ 13h25 – Rendez-vous au parking de l’Hexagone à Autun\nInscription OBLIGATOIRE : cliquez ICI
URL:https://morvan-randonnees.fr/event/randonnee-classique-mine-de-maine/
LOCATION:Reclesne\, Reclesne\, France
CATEGORIES:Randonnée classique,Randonnées
END:VEVENT
BEGIN:VEVENT
DTSTART;TZID=Europe/Paris:20240217T093000
DTEND;TZID=Europe/Paris:20240217T113000
DTSTAMP:20260422T160158
CREATED:20240108T101639Z
LAST-MODIFIED:20240108T102253Z
UID:10000081-1708162200-1708169400@morvan-randonnees.fr
SUMMARY:Marche Nordique - La Comaille
DESCRIPTION:Informations pratiques\n\nRDV à 9h30 – Parking Pepinière Gey\nPAS DE COVOITURAGE – Rendez vous au point de départ de la randonnée. \nInscription OBLIGATOIRE : cliquez ICI\n\nEquipement pour une séance de marche nordique :  \n\n Chaussures adaptées\nVêtements adaptés en fonction de la météo \nBâtons de marche nordique \nUne bouteille d’eau et un encas (fruits sec\, barre de céréales\, etc.) \nNe sous-estimez pas l’effort produit au cours d’une séance de marche nordique. C’est pourquoi nous insistons sur la nécessité de cet équipement.
URL:https://morvan-randonnees.fr/event/marche-nordique-les-renaudiots-5/
LOCATION:La Comaille\, La Comaille\, 71400\, France
CATEGORIES:Marche Nordique,Randonnées
END:VEVENT
BEGIN:VEVENT
DTSTART;VALUE=DATE:20240215
DTEND;VALUE=DATE:20240216
DTSTAMP:20260422T160158
CREATED:20240108T085226Z
LAST-MODIFIED:20240108T085226Z
UID:10000067-1707955200-1708041599@morvan-randonnees.fr
SUMMARY:Randonnée classique - Epertully
DESCRIPTION:Informations pratiques\n\nRdv à 13h45 – Parking église\nCovoiturage : départ 13h15 – Rendez-vous au parking de l’Hexagone à Autun\nInscription OBLIGATOIRE : cliquez ICI
URL:https://morvan-randonnees.fr/event/randonnee-classique-epertully/
LOCATION:Epertully\, Epertully\, France
CATEGORIES:Randonnée classique,Randonnées
END:VEVENT
END:VCALENDAR