BEGIN:VCALENDAR
VERSION:2.0
PRODID:-//Morvan Randonnées - ECPv6.15.20//NONSGML v1.0//EN
CALSCALE:GREGORIAN
METHOD:PUBLISH
X-WR-CALNAME:Morvan Randonnées
X-ORIGINAL-URL:https://morvan-randonnees.fr
X-WR-CALDESC:Évènements pour Morvan Randonnées
REFRESH-INTERVAL;VALUE=DURATION:PT1H
X-Robots-Tag:noindex
X-PUBLISHED-TTL:PT1H
BEGIN:VTIMEZONE
TZID:Europe/Paris
BEGIN:DAYLIGHT
TZOFFSETFROM:+0100
TZOFFSETTO:+0200
TZNAME:CEST
DTSTART:20220327T010000
END:DAYLIGHT
BEGIN:STANDARD
TZOFFSETFROM:+0200
TZOFFSETTO:+0100
TZNAME:CET
DTSTART:20221030T010000
END:STANDARD
BEGIN:DAYLIGHT
TZOFFSETFROM:+0100
TZOFFSETTO:+0200
TZNAME:CEST
DTSTART:20230326T010000
END:DAYLIGHT
BEGIN:STANDARD
TZOFFSETFROM:+0200
TZOFFSETTO:+0100
TZNAME:CET
DTSTART:20231029T010000
END:STANDARD
BEGIN:DAYLIGHT
TZOFFSETFROM:+0100
TZOFFSETTO:+0200
TZNAME:CEST
DTSTART:20240331T010000
END:DAYLIGHT
BEGIN:STANDARD
TZOFFSETFROM:+0200
TZOFFSETTO:+0100
TZNAME:CET
DTSTART:20241027T010000
END:STANDARD
BEGIN:DAYLIGHT
TZOFFSETFROM:+0100
TZOFFSETTO:+0200
TZNAME:CEST
DTSTART:20250330T010000
END:DAYLIGHT
BEGIN:STANDARD
TZOFFSETFROM:+0200
TZOFFSETTO:+0100
TZNAME:CET
DTSTART:20251026T010000
END:STANDARD
BEGIN:DAYLIGHT
TZOFFSETFROM:+0100
TZOFFSETTO:+0200
TZNAME:CEST
DTSTART:20260329T010000
END:DAYLIGHT
BEGIN:STANDARD
TZOFFSETFROM:+0200
TZOFFSETTO:+0100
TZNAME:CET
DTSTART:20261025T010000
END:STANDARD
BEGIN:DAYLIGHT
TZOFFSETFROM:+0100
TZOFFSETTO:+0200
TZNAME:CEST
DTSTART:20270328T010000
END:DAYLIGHT
BEGIN:STANDARD
TZOFFSETFROM:+0200
TZOFFSETTO:+0100
TZNAME:CET
DTSTART:20271031T010000
END:STANDARD
END:VTIMEZONE
BEGIN:VEVENT
DTSTART;VALUE=DATE:20260218
DTEND;VALUE=DATE:20260219
DTSTAMP:20260422T200127
CREATED:20251216T135556Z
LAST-MODIFIED:20251216T135806Z
UID:10000275-1771372800-1771459199@morvan-randonnees.fr
SUMMARY:Randonnée douce - Fragny
DESCRIPTION:Informations pratiques\n\nRDV à 13h45 – Parking église de Fragny\nCovoiturage : départ 13h25 – Rendez-vous au parking de l’Hexagone à Autun\n\nInscription OBLIGATOIRE : cliquez ICI
URL:https://morvan-randonnees.fr/event/randonnee-douce-fragny-5/
LOCATION:Fragny\, Fragny\, 71400\, France
CATEGORIES:Randonnée douce,Randonnées
END:VEVENT
BEGIN:VEVENT
DTSTART;VALUE=DATE:20251217
DTEND;VALUE=DATE:20251218
DTSTAMP:20260422T200127
CREATED:20250908T092516Z
LAST-MODIFIED:20250908T092516Z
UID:10000237-1765929600-1766015999@morvan-randonnees.fr
SUMMARY:Randonnée douce - La Planoise
DESCRIPTION:Informations pratiques\n\nRDV à 13h45 – Parking du parcours sportif : chemin à gauche avant l’étang des Cloix\nCovoiturage : départ 13h30 – Rendez-vous au parking de l’Hexagone à Autun\nInscription OBLIGATOIRE : cliquez ICI
URL:https://morvan-randonnees.fr/event/randonnee-douce-la-planoise-2/
LOCATION:Fragny\, Fragny\, 71400\, France
CATEGORIES:Randonnée douce,Randonnées
END:VEVENT
BEGIN:VEVENT
DTSTART;VALUE=DATE:20250910
DTEND;VALUE=DATE:20250911
DTSTAMP:20260422T200127
CREATED:20250908T091549Z
LAST-MODIFIED:20250908T091549Z
UID:10000230-1757462400-1757548799@morvan-randonnees.fr
SUMMARY:Randonnée douce - Fragny
DESCRIPTION:Informations pratiques\n\nRDV à 13h45 – Parking de l’Etang des Cloix\nCovoiturage : départ 13h30 – Rendez-vous au parking de l’Hexagone à Autun\nInscription OBLIGATOIRE : cliquez ICI
URL:https://morvan-randonnees.fr/event/randonnee-douce-fragny-4/
LOCATION:Fragny\, Fragny\, 71400\, France
CATEGORIES:Randonnée douce,Randonnées
END:VEVENT
BEGIN:VEVENT
DTSTART;VALUE=DATE:20250528
DTEND;VALUE=DATE:20250529
DTSTAMP:20260422T200127
CREATED:20250312T155422Z
LAST-MODIFIED:20250312T155439Z
UID:10000209-1748390400-1748476799@morvan-randonnees.fr
SUMMARY:Randonnée douce - La Planoise
DESCRIPTION:Informations pratiques\n\nRDV à 13h45 – Parking du parcours sportif : chemin à gauche avant l’étang des Cloix\nCovoiturage : départ 13h30 – Rendez-vous au parking de l’Hexagone à Autun\nInscription OBLIGATOIRE : cliquez ICI
URL:https://morvan-randonnees.fr/event/randonnee-douce-la-planoise/
LOCATION:Fragny\, Fragny\, 71400\, France
CATEGORIES:Randonnée douce,Randonnées
END:VEVENT
BEGIN:VEVENT
DTSTART;TZID=Europe/Paris:20250524T093000
DTEND;TZID=Europe/Paris:20250524T113000
DTSTAMP:20260422T200127
CREATED:20250312T153841Z
LAST-MODIFIED:20250312T153841Z
UID:10000201-1748079000-1748086200@morvan-randonnees.fr
SUMMARY:Marche Nordique - Fragny
DESCRIPTION:Informations pratiques\n\nRDV à 9h30 – Parking Etang des Cloix\nPAS DE COVOITURAGE – Rendez vous au point de départ de la randonnée. \nInscription OBLIGATOIRE : cliquez ICI\n\nEquipement pour une séance de marche nordique :  \n\n Chaussures adaptées\nVêtements adaptés en fonction de la météo \nBâtons de marche nordique \nUne bouteille d’eau et un encas (fruits sec\, barre de céréales\, etc.) \nNe sous-estimez pas l’effort produit au cours d’une séance de marche nordique. C’est pourquoi nous insistons sur la nécessité de cet équipement.
URL:https://morvan-randonnees.fr/event/marche-nordique-fragny-6/
LOCATION:Fragny\, Fragny\, 71400\, France
CATEGORIES:Marche Nordique,Randonnées
END:VEVENT
BEGIN:VEVENT
DTSTART;TZID=Europe/Paris:20241012T093000
DTEND;TZID=Europe/Paris:20241012T113000
DTSTAMP:20260422T200127
CREATED:20240904T072404Z
LAST-MODIFIED:20240904T072501Z
UID:10000137-1728725400-1728732600@morvan-randonnees.fr
SUMMARY:Marche Nordique - Fragny
DESCRIPTION:Informations pratiques\n\nRDV à 9h30 – Parking Etang des Cloix\nPAS DE COVOITURAGE – Rendez vous au point de départ de la randonnée. \nInscription OBLIGATOIRE : cliquez ICI\n\nEquipement pour une séance de marche nordique :  \n\n Chaussures adaptées\nVêtements adaptés en fonction de la météo \nBâtons de marche nordique \nUne bouteille d’eau et un encas (fruits sec\, barre de céréales\, etc.) \nNe sous-estimez pas l’effort produit au cours d’une séance de marche nordique. C’est pourquoi nous insistons sur la nécessité de cet équipement.
URL:https://morvan-randonnees.fr/event/marche-nordique-fragny-5/
LOCATION:Fragny\, Fragny\, 71400\, France
CATEGORIES:Marche Nordique,Randonnées
END:VEVENT
BEGIN:VEVENT
DTSTART;VALUE=DATE:20240925
DTEND;VALUE=DATE:20240926
DTSTAMP:20260422T200127
CREATED:20240904T070754Z
LAST-MODIFIED:20240905T102452Z
UID:10000126-1727222400-1727308799@morvan-randonnees.fr
SUMMARY:Randonnée douce - Fragny
DESCRIPTION:Informations pratiques\n\nRDV à 13h45 – Parking de l’Etang des Cloix\nCovoiturage : départ 13h30 – Rendez-vous au parking de l’Hexagone à Autun\nInscription OBLIGATOIRE : cliquez ICI
URL:https://morvan-randonnees.fr/event/randonnee-douce-fragny-3/
LOCATION:Fragny\, Fragny\, 71400\, France
CATEGORIES:Randonnée douce,Randonnées
END:VEVENT
BEGIN:VEVENT
DTSTART;TZID=Europe/Paris:20240316T093000
DTEND;TZID=Europe/Paris:20240316T113000
DTSTAMP:20260422T200127
CREATED:20240108T103037Z
LAST-MODIFIED:20240108T103037Z
UID:10000088-1710581400-1710588600@morvan-randonnees.fr
SUMMARY:Marche Nordique - Fragny
DESCRIPTION:Informations pratiques\n\nRDV à 9h30 – Parking Etang des Cloix\nPAS DE COVOITURAGE – Rendez vous au point de départ de la randonnée. \nInscription OBLIGATOIRE : cliquez ICI\n\nEquipement pour une séance de marche nordique :  \n\n Chaussures adaptées\nVêtements adaptés en fonction de la météo \nBâtons de marche nordique \nUne bouteille d’eau et un encas (fruits sec\, barre de céréales\, etc.) \nNe sous-estimez pas l’effort produit au cours d’une séance de marche nordique. C’est pourquoi nous insistons sur la nécessité de cet équipement.
URL:https://morvan-randonnees.fr/event/marche-nordique-fragny-4/
LOCATION:Fragny\, Fragny\, 71400\, France
CATEGORIES:Marche Nordique,Randonnées
END:VEVENT
BEGIN:VEVENT
DTSTART;TZID=Europe/Paris:20240302T093000
DTEND;TZID=Europe/Paris:20240302T113000
DTSTAMP:20260422T200127
CREATED:20240108T102847Z
LAST-MODIFIED:20240108T102847Z
UID:10000085-1709371800-1709379000@morvan-randonnees.fr
SUMMARY:Marche Nordique - Fragny
DESCRIPTION:Informations pratiques\n\nRDV à 9h30 – Parking Etang des Cloix\nPAS DE COVOITURAGE – Rendez vous au point de départ de la randonnée. \nInscription OBLIGATOIRE : cliquez ICI\n\nEquipement pour une séance de marche nordique :  \n\n Chaussures adaptées\nVêtements adaptés en fonction de la météo \nBâtons de marche nordique \nUne bouteille d’eau et un encas (fruits sec\, barre de céréales\, etc.) \nNe sous-estimez pas l’effort produit au cours d’une séance de marche nordique. C’est pourquoi nous insistons sur la nécessité de cet équipement.
URL:https://morvan-randonnees.fr/event/marche-nordique-fragny-3/
LOCATION:Fragny\, Fragny\, 71400\, France
CATEGORIES:Marche Nordique,Randonnées
END:VEVENT
BEGIN:VEVENT
DTSTART;VALUE=DATE:20240211
DTEND;VALUE=DATE:20240212
DTSTAMP:20260422T200127
CREATED:20240108T085052Z
LAST-MODIFIED:20240108T085052Z
UID:10000066-1707609600-1707695999@morvan-randonnees.fr
SUMMARY:Randonnée classique - Fragny
DESCRIPTION:Informations pratiques\n\nRdv à 13h45 – Parking église\nCovoiturage : départ 13h25 – Rendez-vous au parking de l’Hexagone à Autun\nInscription OBLIGATOIRE : cliquez ICI
URL:https://morvan-randonnees.fr/event/randonnee-classique-fragny/
LOCATION:Fragny\, Fragny\, 71400\, France
CATEGORIES:Randonnée classique,Randonnées
END:VEVENT
BEGIN:VEVENT
DTSTART;TZID=Europe/Paris:20240113T093000
DTEND;TZID=Europe/Paris:20240113T113000
DTSTAMP:20260422T200127
CREATED:20240108T100433Z
LAST-MODIFIED:20240108T100433Z
UID:10000075-1705138200-1705145400@morvan-randonnees.fr
SUMMARY:Marche Nordique - Fragny
DESCRIPTION:Informations pratiques\n\nRDV à 9h30 – Parking Etang des Cloix\nPAS DE COVOITURAGE – Rendez vous au point de départ de la randonnée. \nInscription OBLIGATOIRE : cliquez ICI\n\nEquipement pour une séance de marche nordique :  \n\n Chaussures adaptées\nVêtements adaptés en fonction de la météo \nBâtons de marche nordique \nUne bouteille d’eau et un encas (fruits sec\, barre de céréales\, etc.) \nNe sous-estimez pas l’effort produit au cours d’une séance de marche nordique. C’est pourquoi nous insistons sur la nécessité de cet équipement.
URL:https://morvan-randonnees.fr/event/marche-nordique-fragny-2/
LOCATION:Fragny\, Fragny\, 71400\, France
CATEGORIES:Marche Nordique,Randonnées
END:VEVENT
BEGIN:VEVENT
DTSTART;TZID=Europe/Paris:20231216T093000
DTEND;TZID=Europe/Paris:20231216T113000
DTSTAMP:20260422T200127
CREATED:20231023T104819Z
LAST-MODIFIED:20231031T183157Z
UID:10000055-1702719000-1702726200@morvan-randonnees.fr
SUMMARY:Marche Nordique - Fragny
DESCRIPTION:Informations pratiques\n\nRDV à 9h30 – Parking Etang des Cloix\nPAS DE COVOITURAGE – Rendez vous au point de départ de la randonnée. \nInscription OBLIGATOIRE : cliquez ICI\n\nEquipement pour une séance de marche nordique :  \n\n Chaussures adaptées\nVêtements adaptés en fonction de la météo \nBâtons de marche nordique \nUne bouteille d’eau et un encas (fruits sec\, barre de céréales\, etc.) \nNe sous-estimez pas l’effort produit au cours d’une séance de marche nordique. C’est pourquoi nous insistons sur la nécessité de cet équipement.
URL:https://morvan-randonnees.fr/event/marche-nordique-fragny/
LOCATION:Fragny\, Fragny\, 71400\, France
CATEGORIES:Marche Nordique,Randonnées
END:VEVENT
BEGIN:VEVENT
DTSTART;VALUE=DATE:20230926
DTEND;VALUE=DATE:20230927
DTSTAMP:20260422T200127
CREATED:20230828T135458Z
LAST-MODIFIED:20230829T074802Z
UID:10000035-1695686400-1695772799@morvan-randonnees.fr
SUMMARY:Randonnée douce - Fragny
DESCRIPTION:Informations pratiques\n\nRDV à 13h45 – Parking de l’Etang des Cloix\nCovoiturage : départ 13h30 – Rendez-vous au parking de l’Hexagone à Autun\nInscription OBLIGATOIRE : cliquez ICI
URL:https://morvan-randonnees.fr/event/randonnee-douce-fragny-2/
LOCATION:Fragny\, Fragny\, 71400\, France
CATEGORIES:Randonnée douce,Randonnées
END:VEVENT
END:VCALENDAR