BEGIN:VCALENDAR
VERSION:2.0
PRODID:-//Morvan Randonnées - ECPv6.15.20//NONSGML v1.0//EN
CALSCALE:GREGORIAN
METHOD:PUBLISH
X-ORIGINAL-URL:https://morvan-randonnees.fr
X-WR-CALDESC:Évènements pour Morvan Randonnées
REFRESH-INTERVAL;VALUE=DURATION:PT1H
X-Robots-Tag:noindex
X-PUBLISHED-TTL:PT1H
BEGIN:VTIMEZONE
TZID:Europe/Paris
BEGIN:DAYLIGHT
TZOFFSETFROM:+0100
TZOFFSETTO:+0200
TZNAME:CEST
DTSTART:20220327T010000
END:DAYLIGHT
BEGIN:STANDARD
TZOFFSETFROM:+0200
TZOFFSETTO:+0100
TZNAME:CET
DTSTART:20221030T010000
END:STANDARD
BEGIN:DAYLIGHT
TZOFFSETFROM:+0100
TZOFFSETTO:+0200
TZNAME:CEST
DTSTART:20230326T010000
END:DAYLIGHT
BEGIN:STANDARD
TZOFFSETFROM:+0200
TZOFFSETTO:+0100
TZNAME:CET
DTSTART:20231029T010000
END:STANDARD
BEGIN:DAYLIGHT
TZOFFSETFROM:+0100
TZOFFSETTO:+0200
TZNAME:CEST
DTSTART:20240331T010000
END:DAYLIGHT
BEGIN:STANDARD
TZOFFSETFROM:+0200
TZOFFSETTO:+0100
TZNAME:CET
DTSTART:20241027T010000
END:STANDARD
BEGIN:DAYLIGHT
TZOFFSETFROM:+0100
TZOFFSETTO:+0200
TZNAME:CEST
DTSTART:20250330T010000
END:DAYLIGHT
BEGIN:STANDARD
TZOFFSETFROM:+0200
TZOFFSETTO:+0100
TZNAME:CET
DTSTART:20251026T010000
END:STANDARD
BEGIN:DAYLIGHT
TZOFFSETFROM:+0100
TZOFFSETTO:+0200
TZNAME:CEST
DTSTART:20260329T010000
END:DAYLIGHT
BEGIN:STANDARD
TZOFFSETFROM:+0200
TZOFFSETTO:+0100
TZNAME:CET
DTSTART:20261025T010000
END:STANDARD
BEGIN:DAYLIGHT
TZOFFSETFROM:+0100
TZOFFSETTO:+0200
TZNAME:CEST
DTSTART:20270328T010000
END:DAYLIGHT
BEGIN:STANDARD
TZOFFSETFROM:+0200
TZOFFSETTO:+0100
TZNAME:CET
DTSTART:20271031T010000
END:STANDARD
END:VTIMEZONE
BEGIN:VEVENT
DTSTART;TZID=Europe/Paris:20260228T093000
DTEND;TZID=Europe/Paris:20260228T113000
DTSTAMP:20260422T143146
CREATED:20251216T112439Z
LAST-MODIFIED:20251216T112538Z
UID:10000264-1772271000-1772278200@morvan-randonnees.fr
SUMMARY:Marche Nordique - Forêt de Feuillée
DESCRIPTION:Informations pratiques\n\nRDV à 9h30 – Parking maison forestière de Feuillée \nPAS DE COVOITURAGE – Rendez vous au point de départ de la séance. \n\nInscription OBLIGATOIRE : cliquez ICI \nEquipement pour une séance de marche nordique :  \n\n Chaussures adaptées\nVêtements adaptés en fonction de la météo \nBâtons de marche nordique \nUne bouteille d’eau et un encas (fruits secs\, barre de céréales\, etc.) \nNe sous-estimez pas l’effort produit au cours d’une séance de marche nordique. C’est pourquoi nous insistons sur la nécessité de cet équipement.
URL:https://morvan-randonnees.fr/event/marche-nordique-foret-de-feuillee-14/
LOCATION:Feuillée\, Feuillée\, France
CATEGORIES:Marche Nordique,Randonnées
END:VEVENT
BEGIN:VEVENT
DTSTART;VALUE=DATE:20260115
DTEND;VALUE=DATE:20260116
DTSTAMP:20260422T143146
CREATED:20251216T142846Z
LAST-MODIFIED:20251216T142927Z
UID:10000280-1768435200-1768521599@morvan-randonnees.fr
SUMMARY:Randonnée classique - La Feuillée
DESCRIPTION:Informations pratiques\n\nRdv à 13h45 – Parking Maison forestière de la feuillée\nCovoiturage : départ 13h30\n\nInscription OBLIGATOIRE : cliquez ICI
URL:https://morvan-randonnees.fr/event/randonnee-classique-la-feuillee/
LOCATION:Feuillée\, Feuillée\, France
CATEGORIES:Randonnée classique,Randonnées
END:VEVENT
BEGIN:VEVENT
DTSTART;TZID=Europe/Paris:20260110T093000
DTEND;TZID=Europe/Paris:20260110T113000
DTSTAMP:20260422T143146
CREATED:20251216T111518Z
LAST-MODIFIED:20251216T112525Z
UID:10000259-1768037400-1768044600@morvan-randonnees.fr
SUMMARY:Marche Nordique - Forêt de Feuillée
DESCRIPTION:Informations pratiques\n\nRDV à 9h30 – Parking maison forestière de Feuillée \nPAS DE COVOITURAGE – Rendez vous au point de départ de la séance. \n\nInscription OBLIGATOIRE : cliquez ICI \nEquipement pour une séance de marche nordique :  \n\n Chaussures adaptées\nVêtements adaptés en fonction de la météo \nBâtons de marche nordique \nUne bouteille d’eau et un encas (fruits secs\, barre de céréales\, etc.) \nNe sous-estimez pas l’effort produit au cours d’une séance de marche nordique. C’est pourquoi nous insistons sur la nécessité de cet équipement.
URL:https://morvan-randonnees.fr/event/marche-nordique-foret-de-feuillee-13/
LOCATION:Feuillée\, Feuillée\, France
CATEGORIES:Marche Nordique,Randonnées
END:VEVENT
BEGIN:VEVENT
DTSTART;TZID=Europe/Paris:20251108T093000
DTEND;TZID=Europe/Paris:20251108T113000
DTSTAMP:20260422T143146
CREATED:20251103T082442Z
LAST-MODIFIED:20251103T082442Z
UID:10000252-1762594200-1762601400@morvan-randonnees.fr
SUMMARY:Marche Nordique - Forêt de Feuillée
DESCRIPTION:Informations pratiques\n\nRDV à 9h30 – Parking maison forestière de Feuillée \nPAS DE COVOITURAGE – Rendez vous au point de départ de la randonnée. \nInscription OBLIGATOIRE : cliquez ICI\n\nEquipement pour une séance de marche nordique :  \n\n Chaussures adaptées\nVêtements adaptés en fonction de la météo \nBâtons de marche nordique \nUne bouteille d’eau et un encas (fruits sec\, barre de céréales\, etc.) \nNe sous-estimez pas l’effort produit au cours d’une séance de marche nordique. C’est pourquoi nous insistons sur la nécessité de cet équipement.
URL:https://morvan-randonnees.fr/event/marche-nordique-foret-de-feuillee-12/
LOCATION:Feuillée\, Feuillée\, France
CATEGORIES:Marche Nordique,Randonnées
END:VEVENT
BEGIN:VEVENT
DTSTART;TZID=Europe/Paris:20251025T093000
DTEND;TZID=Europe/Paris:20251025T113000
DTSTAMP:20260422T143146
CREATED:20250908T090818Z
LAST-MODIFIED:20250908T090818Z
UID:10000227-1761384600-1761391800@morvan-randonnees.fr
SUMMARY:Marche Nordique - Forêt de Feuillée
DESCRIPTION:Informations pratiques\n\nRDV à 9h30 – Parking maison forestière de Feuillée \nPAS DE COVOITURAGE – Rendez vous au point de départ de la randonnée. \nInscription OBLIGATOIRE : cliquez ICI\n\nEquipement pour une séance de marche nordique :  \n\n Chaussures adaptées\nVêtements adaptés en fonction de la météo \nBâtons de marche nordique \nUne bouteille d’eau et un encas (fruits sec\, barre de céréales\, etc.) \nNe sous-estimez pas l’effort produit au cours d’une séance de marche nordique. C’est pourquoi nous insistons sur la nécessité de cet équipement.
URL:https://morvan-randonnees.fr/event/marche-nordique-foret-de-feuillee-11/
LOCATION:Feuillée\, Feuillée\, France
CATEGORIES:Marche Nordique,Randonnées
END:VEVENT
BEGIN:VEVENT
DTSTART;TZID=Europe/Paris:20250531T093000
DTEND;TZID=Europe/Paris:20250531T113000
DTSTAMP:20260422T143146
CREATED:20250312T153926Z
LAST-MODIFIED:20250312T153934Z
UID:10000202-1748683800-1748691000@morvan-randonnees.fr
SUMMARY:Marche Nordique - Forêt de Feuillée
DESCRIPTION:Informations pratiques\n\nRDV à 9h30 – Parking maison forestière de Feuillée \nPAS DE COVOITURAGE – Rendez vous au point de départ de la randonnée. \nInscription OBLIGATOIRE : cliquez ICI\n\nEquipement pour une séance de marche nordique :  \n\n Chaussures adaptées\nVêtements adaptés en fonction de la météo \nBâtons de marche nordique \nUne bouteille d’eau et un encas (fruits sec\, barre de céréales\, etc.) \nNe sous-estimez pas l’effort produit au cours d’une séance de marche nordique. C’est pourquoi nous insistons sur la nécessité de cet équipement.
URL:https://morvan-randonnees.fr/event/marche-nordique-foret-de-feuillee-10/
LOCATION:Feuillée\, Feuillée\, France
CATEGORIES:Marche Nordique,Randonnées
END:VEVENT
BEGIN:VEVENT
DTSTART;TZID=Europe/Paris:20250215T093000
DTEND;TZID=Europe/Paris:20250215T113000
DTSTAMP:20260422T143146
CREATED:20250106T144943Z
LAST-MODIFIED:20250106T144943Z
UID:10000174-1739611800-1739619000@morvan-randonnees.fr
SUMMARY:Marche Nordique - Forêt de Feuillée
DESCRIPTION:Informations pratiques\n\nRDV à 9h30 – Parking maison forestière de Feuillée \nPAS DE COVOITURAGE – Rendez vous au point de départ de la randonnée. \nInscription OBLIGATOIRE : cliquez ICI\n\nEquipement pour une séance de marche nordique :  \n\n Chaussures adaptées\nVêtements adaptés en fonction de la météo \nBâtons de marche nordique \nUne bouteille d’eau et un encas (fruits sec\, barre de céréales\, etc.) \nNe sous-estimez pas l’effort produit au cours d’une séance de marche nordique. C’est pourquoi nous insistons sur la nécessité de cet équipement.
URL:https://morvan-randonnees.fr/event/marche-nordique-foret-de-feuillee-9/
LOCATION:Feuillée\, Feuillée\, France
CATEGORIES:Marche Nordique,Randonnées
END:VEVENT
BEGIN:VEVENT
DTSTART;TZID=Europe/Paris:20250208T093000
DTEND;TZID=Europe/Paris:20250208T113000
DTSTAMP:20260422T143146
CREATED:20250106T144920Z
LAST-MODIFIED:20250106T144920Z
UID:10000173-1739007000-1739014200@morvan-randonnees.fr
SUMMARY:Marche Nordique - Forêt de Feuillée
DESCRIPTION:Informations pratiques\n\nRDV à 9h30 – Parking maison forestière de Feuillée \nPAS DE COVOITURAGE – Rendez vous au point de départ de la randonnée. \nInscription OBLIGATOIRE : cliquez ICI\n\nEquipement pour une séance de marche nordique :  \n\n Chaussures adaptées\nVêtements adaptés en fonction de la météo \nBâtons de marche nordique \nUne bouteille d’eau et un encas (fruits sec\, barre de céréales\, etc.) \nNe sous-estimez pas l’effort produit au cours d’une séance de marche nordique. C’est pourquoi nous insistons sur la nécessité de cet équipement.
URL:https://morvan-randonnees.fr/event/marche-nordique-foret-de-feuillee-8/
LOCATION:Feuillée\, Feuillée\, France
CATEGORIES:Marche Nordique,Randonnées
END:VEVENT
BEGIN:VEVENT
DTSTART;TZID=Europe/Paris:20241005T093000
DTEND;TZID=Europe/Paris:20241005T113000
DTSTAMP:20260422T143146
CREATED:20240904T072218Z
LAST-MODIFIED:20240904T072218Z
UID:10000136-1728120600-1728127800@morvan-randonnees.fr
SUMMARY:Marche Nordique - Forêt de Feuillée
DESCRIPTION:Informations pratiques\n\nRDV à 9h30 – Parking maison forestière de Feuillée \nPAS DE COVOITURAGE – Rendez vous au point de départ de la randonnée. \nInscription OBLIGATOIRE : cliquez ICI\n\nEquipement pour une séance de marche nordique :  \n\n Chaussures adaptées\nVêtements adaptés en fonction de la météo \nBâtons de marche nordique \nUne bouteille d’eau et un encas (fruits sec\, barre de céréales\, etc.) \nNe sous-estimez pas l’effort produit au cours d’une séance de marche nordique. C’est pourquoi nous insistons sur la nécessité de cet équipement.
URL:https://morvan-randonnees.fr/event/marche-nordique-foret-de-feuillee-7/
LOCATION:Feuillée\, Feuillée\, France
CATEGORIES:Marche Nordique,Randonnées
END:VEVENT
BEGIN:VEVENT
DTSTART;TZID=Europe/Paris:20240928T093000
DTEND;TZID=Europe/Paris:20240928T113000
DTSTAMP:20260422T143146
CREATED:20240904T072027Z
LAST-MODIFIED:20240904T072027Z
UID:10000135-1727515800-1727523000@morvan-randonnees.fr
SUMMARY:Marche Nordique - Forêt de Feuillée
DESCRIPTION:Informations pratiques\n\nRDV à 9h30 – Parking maison forestière de Feuillée \nPAS DE COVOITURAGE – Rendez vous au point de départ de la randonnée. \nInscription OBLIGATOIRE : cliquez ICI\n\nEquipement pour une séance de marche nordique :  \n\n Chaussures adaptées\nVêtements adaptés en fonction de la météo \nBâtons de marche nordique \nUne bouteille d’eau et un encas (fruits sec\, barre de céréales\, etc.) \nNe sous-estimez pas l’effort produit au cours d’une séance de marche nordique. C’est pourquoi nous insistons sur la nécessité de cet équipement.
URL:https://morvan-randonnees.fr/event/marche-nordique-foret-de-feuillee-6/
LOCATION:Feuillée\, Feuillée\, France
CATEGORIES:Marche Nordique,Randonnées
END:VEVENT
BEGIN:VEVENT
DTSTART;TZID=Europe/Paris:20240615T093000
DTEND;TZID=Europe/Paris:20240615T113000
DTSTAMP:20260422T143146
CREATED:20240320T085224Z
LAST-MODIFIED:20240320T085234Z
UID:10000117-1718443800-1718451000@morvan-randonnees.fr
SUMMARY:Marche Nordique - Forêt de Feuillée
DESCRIPTION:Informations pratiques\n\nRDV à 9h30 – Parking maison forestière de Feuillée \nPAS DE COVOITURAGE – Rendez vous au point de départ de la randonnée. \nInscription OBLIGATOIRE : cliquez ICI\n\nEquipement pour une séance de marche nordique :  \n\n Chaussures adaptées\nVêtements adaptés en fonction de la météo \nBâtons de marche nordique \nUne bouteille d’eau et un encas (fruits sec\, barre de céréales\, etc.) \nNe sous-estimez pas l’effort produit au cours d’une séance de marche nordique. C’est pourquoi nous insistons sur la nécessité de cet équipement.
URL:https://morvan-randonnees.fr/event/marche-nordique-foret-de-feuillee-5/
LOCATION:Feuillée\, Feuillée\, France
CATEGORIES:Marche Nordique,Randonnées
END:VEVENT
BEGIN:VEVENT
DTSTART;TZID=Europe/Paris:20240608T093000
DTEND;TZID=Europe/Paris:20240608T113000
DTSTAMP:20260422T143146
CREATED:20240320T084953Z
LAST-MODIFIED:20240320T085116Z
UID:10000116-1717839000-1717846200@morvan-randonnees.fr
SUMMARY:Marche Nordique - Forêt de Feuillée
DESCRIPTION:Informations pratiques\n\nRDV à 9h30 – Parking maison forestière de Feuillée \nPAS DE COVOITURAGE – Rendez vous au point de départ de la randonnée. \nInscription OBLIGATOIRE : cliquez ICI\n\nEquipement pour une séance de marche nordique :  \n\n Chaussures adaptées\nVêtements adaptés en fonction de la météo \nBâtons de marche nordique \nUne bouteille d’eau et un encas (fruits sec\, barre de céréales\, etc.) \nNe sous-estimez pas l’effort produit au cours d’une séance de marche nordique. C’est pourquoi nous insistons sur la nécessité de cet équipement.
URL:https://morvan-randonnees.fr/event/marche-nordique-foret-de-feuillee-4/
LOCATION:Feuillée\, Feuillée\, France
CATEGORIES:Marche Nordique,Randonnées
END:VEVENT
BEGIN:VEVENT
DTSTART;TZID=Europe/Paris:20240601T093000
DTEND;TZID=Europe/Paris:20240601T113000
DTSTAMP:20260422T143146
CREATED:20240320T084906Z
LAST-MODIFIED:20240320T084906Z
UID:10000115-1717234200-1717241400@morvan-randonnees.fr
SUMMARY:Marche Nordique - Forêt de Feuillée
DESCRIPTION:Informations pratiques\n\nRDV à 9h30 – Parking maison forestière de Feuillée \nPAS DE COVOITURAGE – Rendez vous au point de départ de la randonnée. \nInscription OBLIGATOIRE : cliquez ICI\n\nEquipement pour une séance de marche nordique :  \n\n Chaussures adaptées\nVêtements adaptés en fonction de la météo \nBâtons de marche nordique \nUne bouteille d’eau et un encas (fruits sec\, barre de céréales\, etc.) \nNe sous-estimez pas l’effort produit au cours d’une séance de marche nordique. C’est pourquoi nous insistons sur la nécessité de cet équipement.
URL:https://morvan-randonnees.fr/event/marche-nordique-foret-de-feuillee-3/
LOCATION:Feuillée\, Feuillée\, France
CATEGORIES:Marche Nordique,Randonnées
END:VEVENT
BEGIN:VEVENT
DTSTART;TZID=Europe/Paris:20231104T093000
DTEND;TZID=Europe/Paris:20231104T113000
DTSTAMP:20260422T143146
CREATED:20231023T103301Z
LAST-MODIFIED:20231031T183314Z
UID:10000046-1699090200-1699097400@morvan-randonnees.fr
SUMMARY:Marche Nordique - Forêt de Feuillée (séance technique)
DESCRIPTION:Informations pratiques\n\nRDV à 9h30 – Parking Maison Forestière de Feuillée \nPAS DE COVOITURAGE – Rendez vous au point de départ de la randonnée. \nInscription OBLIGATOIRE : cliquez ICI\n\nEquipement pour une séance de marche nordique :  \n\n Chaussures adaptées\nVêtements adaptés en fonction de la météo \nBâtons de marche nordique \nUne bouteille d’eau et un encas (fruits sec\, barre de céréales\, etc.) \nNe sous-estimez pas l’effort produit au cours d’une séance de marche nordique. C’est pourquoi nous insistons sur la nécessité de cet équipement.
URL:https://morvan-randonnees.fr/event/marche-nordique-foret-de-feuillee-seance-technique/
LOCATION:Feuillée\, Feuillée\, France
CATEGORIES:Marche Nordique,Randonnées
END:VEVENT
BEGIN:VEVENT
DTSTART;TZID=Europe/Paris:20231007T093000
DTEND;TZID=Europe/Paris:20231007T113000
DTSTAMP:20260422T143146
CREATED:20230828T133721Z
LAST-MODIFIED:20230828T133721Z
UID:10000027-1696671000-1696678200@morvan-randonnees.fr
SUMMARY:Marche Nordique - Forêt de Feuillée
DESCRIPTION:Informations pratiques\n\nRDV à 9h30 – Parking maison forestière de Feuillée \nPAS DE COVOITURAGE – Rendez vous au point de départ de la randonnée. \nInscription OBLIGATOIRE : cliquez ICI\n\nEquipement pour une séance de marche nordique :  \n\n Chaussures adaptées\nVêtements adaptés en fonction de la météo \nBâtons de marche nordique \nUne bouteille d’eau et un encas (fruits sec\, barre de céréales\, etc.) \nNe sous-estimez pas l’effort produit au cours d’une séance de marche nordique. C’est pourquoi nous insistons sur la nécessité de cet équipement.
URL:https://morvan-randonnees.fr/event/marche-nordique-foret-de-feuillee-2/
LOCATION:Feuillée\, Feuillée\, France
CATEGORIES:Marche Nordique,Randonnées
END:VEVENT
BEGIN:VEVENT
DTSTART;TZID=Europe/Paris:20230930T093000
DTEND;TZID=Europe/Paris:20230930T113000
DTSTAMP:20260422T143146
CREATED:20230828T133626Z
LAST-MODIFIED:20230828T133626Z
UID:10000026-1696066200-1696073400@morvan-randonnees.fr
SUMMARY:Marche Nordique - Forêt de Feuillée
DESCRIPTION:Informations pratiques\n\nRDV à 9h30 – Parking maison forestière de Feuillée \nPAS DE COVOITURAGE – Rendez vous au point de départ de la randonnée. \nInscription OBLIGATOIRE : cliquez ICI\n\nEquipement pour une séance de marche nordique :  \n\n Chaussures adaptées\nVêtements adaptés en fonction de la météo \nBâtons de marche nordique \nUne bouteille d’eau et un encas (fruits sec\, barre de céréales\, etc.) \nNe sous-estimez pas l’effort produit au cours d’une séance de marche nordique. C’est pourquoi nous insistons sur la nécessité de cet équipement.
URL:https://morvan-randonnees.fr/event/marche-nordique-foret-de-feuillee/
LOCATION:Feuillée\, Feuillée\, France
CATEGORIES:Marche Nordique,Randonnées
END:VEVENT
END:VCALENDAR