BEGIN:VCALENDAR
VERSION:2.0
PRODID:-//Morvan Randonnées - ECPv6.15.20//NONSGML v1.0//EN
CALSCALE:GREGORIAN
METHOD:PUBLISH
X-WR-CALNAME:Morvan Randonnées
X-ORIGINAL-URL:https://morvan-randonnees.fr
X-WR-CALDESC:Évènements pour Morvan Randonnées
REFRESH-INTERVAL;VALUE=DURATION:PT1H
X-Robots-Tag:noindex
X-PUBLISHED-TTL:PT1H
BEGIN:VTIMEZONE
TZID:Europe/Paris
BEGIN:DAYLIGHT
TZOFFSETFROM:+0100
TZOFFSETTO:+0200
TZNAME:CEST
DTSTART:20250330T010000
END:DAYLIGHT
BEGIN:STANDARD
TZOFFSETFROM:+0200
TZOFFSETTO:+0100
TZNAME:CET
DTSTART:20251026T010000
END:STANDARD
BEGIN:DAYLIGHT
TZOFFSETFROM:+0100
TZOFFSETTO:+0200
TZNAME:CEST
DTSTART:20260329T010000
END:DAYLIGHT
BEGIN:STANDARD
TZOFFSETFROM:+0200
TZOFFSETTO:+0100
TZNAME:CET
DTSTART:20261025T010000
END:STANDARD
BEGIN:DAYLIGHT
TZOFFSETFROM:+0100
TZOFFSETTO:+0200
TZNAME:CEST
DTSTART:20270328T010000
END:DAYLIGHT
BEGIN:STANDARD
TZOFFSETFROM:+0200
TZOFFSETTO:+0100
TZNAME:CET
DTSTART:20271031T010000
END:STANDARD
END:VTIMEZONE
BEGIN:VEVENT
DTSTART;VALUE=DATE:20260204
DTEND;VALUE=DATE:20260205
DTSTAMP:20260422T155147
CREATED:20251216T135011Z
LAST-MODIFIED:20251216T135331Z
UID:10000274-1770163200-1770249599@morvan-randonnees.fr
SUMMARY:Randonnée douce - Morlet
DESCRIPTION:Informations pratiques\n\nRDV à 13h45 – Parking près des containers\, route du Dessous\nCovoiturage : départ 13h15 – Rendez-vous au parking de l’Hexagone à Autun\n\nInscription OBLIGATOIRE : cliquez ICI
URL:https://morvan-randonnees.fr/event/randonnee-douce-arnay-le-duc-6/
LOCATION:Morlet\, France
CATEGORIES:Randonnée douce,Randonnées
END:VEVENT
BEGIN:VEVENT
DTSTART;TZID=Europe/Paris:20260207T093000
DTEND;TZID=Europe/Paris:20260207T113000
DTSTAMP:20260422T155147
CREATED:20251216T112303Z
LAST-MODIFIED:20251216T112702Z
UID:10000262-1770456600-1770463800@morvan-randonnees.fr
SUMMARY:Marche Nordique - Margenne
DESCRIPTION:Informations pratiques\n\nRDV à 9h30 – Parking Transports Fontaine\nPAS DE COVOITURAGE – Rendez vous au point de départ de la séance. \n\nInscription OBLIGATOIRE : cliquez ICI\nEquipement pour une séance de marche nordique :  \n\n Chaussures adaptées\nVêtements adaptés en fonction de la météo \nBâtons de marche nordique \nUne bouteille d’eau et un encas (fruits secs\, barre de céréales\, etc.) \nNe sous-estimez pas l’effort produit au cours d’une séance de marche nordique. C’est pourquoi nous insistons sur la nécessité de cet équipement.
URL:https://morvan-randonnees.fr/event/marche-nordique-margenne-25/
LOCATION:Margenne\, Margenne\, SAONE-ET-LOIRE\, 71400\, France
CATEGORIES:Marche Nordique,Randonnées
END:VEVENT
BEGIN:VEVENT
DTSTART;VALUE=DATE:20260208
DTEND;VALUE=DATE:20260209
DTSTAMP:20260422T155147
CREATED:20251216T143333Z
LAST-MODIFIED:20251216T143417Z
UID:10000283-1770508800-1770595199@morvan-randonnees.fr
SUMMARY:Randonnée classique - La Celle-en-Morvan
DESCRIPTION:Informations pratiques\n\nRdv à 13h45 – Parking église\nCovoiturage : départ 13h20\n\nInscription OBLIGATOIRE : cliquez ICI
URL:https://morvan-randonnees.fr/event/randonnee-classique-la-celle-en-morvan-3/
LOCATION:La Celle-en-Morvan\, France
CATEGORIES:Randonnée classique,Randonnées
END:VEVENT
BEGIN:VEVENT
DTSTART;VALUE=DATE:20260212
DTEND;VALUE=DATE:20260213
DTSTAMP:20260422T155147
CREATED:20251216T143520Z
LAST-MODIFIED:20251216T143549Z
UID:10000284-1770854400-1770940799@morvan-randonnees.fr
SUMMARY:Randonnée classique - Sommant
DESCRIPTION:Informations pratiques\n\nRdv à 13h45 – Parking mairie\nCovoiturage : départ 13h15\n\nInscription OBLIGATOIRE : cliquez ICI
URL:https://morvan-randonnees.fr/event/randonnee-classique-sommant-4/
LOCATION:sommant\, Sommant\, SAONE-ET-LOIRE\, 71540\, France
CATEGORIES:Randonnée classique,Randonnées
END:VEVENT
BEGIN:VEVENT
DTSTART;TZID=Europe/Paris:20260214T093000
DTEND;TZID=Europe/Paris:20260214T113000
DTSTAMP:20260422T155147
CREATED:20251216T112917Z
LAST-MODIFIED:20251216T112917Z
UID:10000266-1771061400-1771068600@morvan-randonnees.fr
SUMMARY:Marche Nordique - La Comaille
DESCRIPTION:Informations pratiques\n\nRDV à 9h30 – Parking Pépinière Gey\nPAS DE COVOITURAGE – Rendez vous au point de départ de la séance. \n\nInscription OBLIGATOIRE : cliquez ICI \nEquipement pour une séance de marche nordique :  \n\n Chaussures adaptées\nVêtements adaptés en fonction de la météo \nBâtons de marche nordique \nUne bouteille d’eau et un encas (fruits secs\, barre de céréales\, etc.) \nNe sous-estimez pas l’effort produit au cours d’une séance de marche nordique. C’est pourquoi nous insistons sur la nécessité de cet équipement.
URL:https://morvan-randonnees.fr/event/marche-nordique-la-comaille-20/
LOCATION:La Comaille\, La Comaille\, 71400\, France
CATEGORIES:Marche Nordique,Randonnées
END:VEVENT
BEGIN:VEVENT
DTSTART;VALUE=DATE:20260218
DTEND;VALUE=DATE:20260219
DTSTAMP:20260422T155147
CREATED:20251216T135556Z
LAST-MODIFIED:20251216T135806Z
UID:10000275-1771372800-1771459199@morvan-randonnees.fr
SUMMARY:Randonnée douce - Fragny
DESCRIPTION:Informations pratiques\n\nRDV à 13h45 – Parking église de Fragny\nCovoiturage : départ 13h25 – Rendez-vous au parking de l’Hexagone à Autun\n\nInscription OBLIGATOIRE : cliquez ICI
URL:https://morvan-randonnees.fr/event/randonnee-douce-fragny-5/
LOCATION:Fragny\, Fragny\, 71400\, France
CATEGORIES:Randonnée douce,Randonnées
END:VEVENT
BEGIN:VEVENT
DTSTART;TZID=Europe/Paris:20260221T093000
DTEND;TZID=Europe/Paris:20260221T113000
DTSTAMP:20260422T155147
CREATED:20251216T112342Z
LAST-MODIFIED:20251216T112625Z
UID:10000263-1771666200-1771673400@morvan-randonnees.fr
SUMMARY:Marche Nordique - Margenne
DESCRIPTION:Informations pratiques\n\nRDV à 9h30 – Parking Transports Fontaine\nPAS DE COVOITURAGE – Rendez vous au point de départ de la séance. \n\nInscription OBLIGATOIRE : cliquez ICI\nEquipement pour une séance de marche nordique :  \n\n Chaussures adaptées\nVêtements adaptés en fonction de la météo \nBâtons de marche nordique \nUne bouteille d’eau et un encas (fruits secs\, barre de céréales\, etc.) \nNe sous-estimez pas l’effort produit au cours d’une séance de marche nordique. C’est pourquoi nous insistons sur la nécessité de cet équipement.
URL:https://morvan-randonnees.fr/event/marche-nordique-margenne-26/
LOCATION:Margenne\, Margenne\, SAONE-ET-LOIRE\, 71400\, France
CATEGORIES:Marche Nordique,Randonnées
END:VEVENT
BEGIN:VEVENT
DTSTART;VALUE=DATE:20260222
DTEND;VALUE=DATE:20260223
DTSTAMP:20260422T155147
CREATED:20251216T143642Z
LAST-MODIFIED:20251216T143659Z
UID:10000285-1771718400-1771804799@morvan-randonnees.fr
SUMMARY:Randonnée classique - Planoise
DESCRIPTION:Informations pratiques\n\nRdv à 13h45 – Parking Anciennement Brizotin \,fin ligne droite avant descente sur Marmagne\, D680\nCovoiturage : départ 13h20\n\nInscription OBLIGATOIRE : cliquez ICI
URL:https://morvan-randonnees.fr/event/randonnee-classique-planoise-2/
LOCATION:Planoise\, France
CATEGORIES:Randonnée classique,Randonnées
END:VEVENT
BEGIN:VEVENT
DTSTART;VALUE=DATE:20260226
DTEND;VALUE=DATE:20260227
DTSTAMP:20260422T155147
CREATED:20251216T143810Z
LAST-MODIFIED:20251216T143900Z
UID:10000286-1772064000-1772150399@morvan-randonnees.fr
SUMMARY:Randonnée classique - Lucenay l'Evêque
DESCRIPTION:Informations pratiques\n\nRdv à 13h45 – Parking église\nCovoiturage : départ 13h20\n\nInscription OBLIGATOIRE : cliquez ICI
URL:https://morvan-randonnees.fr/event/randonnee-classique-lucenay-leveque-4/
LOCATION:Lucenay L’Eveque\, Lucenay l'Eveque\, 71540\, France
CATEGORIES:Randonnée classique,Randonnées
END:VEVENT
BEGIN:VEVENT
DTSTART;TZID=Europe/Paris:20260228T093000
DTEND;TZID=Europe/Paris:20260228T113000
DTSTAMP:20260422T155147
CREATED:20251216T112439Z
LAST-MODIFIED:20251216T112538Z
UID:10000264-1772271000-1772278200@morvan-randonnees.fr
SUMMARY:Marche Nordique - Forêt de Feuillée
DESCRIPTION:Informations pratiques\n\nRDV à 9h30 – Parking maison forestière de Feuillée \nPAS DE COVOITURAGE – Rendez vous au point de départ de la séance. \n\nInscription OBLIGATOIRE : cliquez ICI \nEquipement pour une séance de marche nordique :  \n\n Chaussures adaptées\nVêtements adaptés en fonction de la météo \nBâtons de marche nordique \nUne bouteille d’eau et un encas (fruits secs\, barre de céréales\, etc.) \nNe sous-estimez pas l’effort produit au cours d’une séance de marche nordique. C’est pourquoi nous insistons sur la nécessité de cet équipement.
URL:https://morvan-randonnees.fr/event/marche-nordique-foret-de-feuillee-14/
LOCATION:Feuillée\, Feuillée\, France
CATEGORIES:Marche Nordique,Randonnées
END:VEVENT
END:VCALENDAR