BEGIN:VCALENDAR
VERSION:2.0
PRODID:-//Morvan Randonnées - ECPv6.15.20//NONSGML v1.0//EN
CALSCALE:GREGORIAN
METHOD:PUBLISH
X-ORIGINAL-URL:https://morvan-randonnees.fr
X-WR-CALDESC:Évènements pour Morvan Randonnées
REFRESH-INTERVAL;VALUE=DURATION:PT1H
X-Robots-Tag:noindex
X-PUBLISHED-TTL:PT1H
BEGIN:VTIMEZONE
TZID:Europe/Paris
BEGIN:DAYLIGHT
TZOFFSETFROM:+0100
TZOFFSETTO:+0200
TZNAME:CEST
DTSTART:20240331T010000
END:DAYLIGHT
BEGIN:STANDARD
TZOFFSETFROM:+0200
TZOFFSETTO:+0100
TZNAME:CET
DTSTART:20241027T010000
END:STANDARD
BEGIN:DAYLIGHT
TZOFFSETFROM:+0100
TZOFFSETTO:+0200
TZNAME:CEST
DTSTART:20250330T010000
END:DAYLIGHT
BEGIN:STANDARD
TZOFFSETFROM:+0200
TZOFFSETTO:+0100
TZNAME:CET
DTSTART:20251026T010000
END:STANDARD
BEGIN:DAYLIGHT
TZOFFSETFROM:+0100
TZOFFSETTO:+0200
TZNAME:CEST
DTSTART:20260329T010000
END:DAYLIGHT
BEGIN:STANDARD
TZOFFSETFROM:+0200
TZOFFSETTO:+0100
TZNAME:CET
DTSTART:20261025T010000
END:STANDARD
END:VTIMEZONE
BEGIN:VEVENT
DTSTART;VALUE=DATE:20251203
DTEND;VALUE=DATE:20251204
DTSTAMP:20260422T184815
CREATED:20250908T092408Z
LAST-MODIFIED:20250908T092421Z
UID:10000236-1764720000-1764806399@morvan-randonnees.fr
SUMMARY:Randonnée douce - Pierre de Couhard
DESCRIPTION:Informations pratiques\n\nInscription OBLIGATOIRE : cliquez ICI\n13h45 – Parking de la Pierre de Couhard\nCovoiturage : Départ 13h30 parking de l’Hexagone
URL:https://morvan-randonnees.fr/event/randonnee-douce-pierre-de-couhard-4/
LOCATION:Couhard\, France
CATEGORIES:Randonnée douce,Randonnées
END:VEVENT
BEGIN:VEVENT
DTSTART;TZID=Europe/Paris:20251206T093000
DTEND;TZID=Europe/Paris:20251206T113000
DTSTAMP:20260422T184815
CREATED:20251103T082912Z
LAST-MODIFIED:20251103T082912Z
UID:10000256-1765013400-1765020600@morvan-randonnees.fr
SUMMARY:Marche Nordique - Margenne
DESCRIPTION:Informations pratiques\n\nRDV à 9h30 – Parking Transports Fontaine\nPAS DE COVOITURAGE – Rendez vous au point de départ de la randonnée. \nInscription OBLIGATOIRE : cliquez ICI\n\nEquipement pour une séance de marche nordique :  \n\n Chaussures adaptées\nVêtements adaptés en fonction de la météo \nBâtons de marche nordique \nUne bouteille d’eau et un encas (fruits sec\, barre de céréales\, etc.) \nNe sous-estimez pas l’effort produit au cours d’une séance de marche nordique. C’est pourquoi nous insistons sur la nécessité de cet équipement.
URL:https://morvan-randonnees.fr/event/marche-nordique-margenne-22/
LOCATION:Margenne\, Margenne\, SAONE-ET-LOIRE\, 71400\, France
CATEGORIES:Marche Nordique,Randonnées
END:VEVENT
BEGIN:VEVENT
DTSTART;VALUE=DATE:20251207
DTEND;VALUE=DATE:20251208
DTSTAMP:20260422T184815
CREATED:20251031T165948Z
LAST-MODIFIED:20251031T170032Z
UID:10000250-1765065600-1765151999@morvan-randonnees.fr
SUMMARY:Randonnée classique - Planoise
DESCRIPTION:Informations pratiques\n\nRdv à 13h30 – Parcours sportif\nCovoiturage : départ 13h30 – Rendez-vous au parking de l’Hexagone à Autun\nInscription OBLIGATOIRE : cliquez ICI
URL:https://morvan-randonnees.fr/event/randonnee-classique-planoise/
LOCATION:Planoise\, France
CATEGORIES:Randonnée classique,Randonnées
END:VEVENT
BEGIN:VEVENT
DTSTART;VALUE=DATE:20251211
DTEND;VALUE=DATE:20251212
DTSTAMP:20260422T184815
CREATED:20251031T170139Z
LAST-MODIFIED:20251031T170624Z
UID:10000251-1765411200-1765497599@morvan-randonnees.fr
SUMMARY:Randonnée classique - Blanot
DESCRIPTION:Informations pratiques\n\nRdv à 13h30 – Parking Chissey\nCovoiturage : départ 13h15 – Rendez-vous au parking de l’Hexagone à Autun\nInscription OBLIGATOIRE : cliquez ICI
URL:https://morvan-randonnees.fr/event/randonnee-classique-blanot/
LOCATION:Blanot\, France
CATEGORIES:Randonnée classique,Randonnées
END:VEVENT
BEGIN:VEVENT
DTSTART;TZID=Europe/Paris:20251213T093000
DTEND;TZID=Europe/Paris:20251213T113000
DTSTAMP:20260422T184815
CREATED:20251103T083103Z
LAST-MODIFIED:20251103T083308Z
UID:10000257-1765618200-1765625400@morvan-randonnees.fr
SUMMARY:Marche Nordique - Saint Forgeot
DESCRIPTION:Informations pratiques\n\nRDV à 9h30 – Parking Les Ruets (au bout du chemin)\nPAS DE COVOITURAGE – Rendez vous au point de départ de la randonnée. \nInscription OBLIGATOIRE : cliquez ICI\n\nEquipement pour une séance de marche nordique :  \n\n Chaussures adaptées\nVêtements adaptés en fonction de la météo \nBâtons de marche nordique \nUne bouteille d’eau et un encas (fruits sec\, barre de céréales\, etc.) \nNe sous-estimez pas l’effort produit au cours d’une séance de marche nordique. C’est pourquoi nous insistons sur la nécessité de cet équipement.
URL:https://morvan-randonnees.fr/event/marche-nordique-saint-forgeot-2/
LOCATION:Saint Forgeot\, France
CATEGORIES:Marche Nordique,Randonnées
END:VEVENT
BEGIN:VEVENT
DTSTART;VALUE=DATE:20251217
DTEND;VALUE=DATE:20251218
DTSTAMP:20260422T184815
CREATED:20250908T092516Z
LAST-MODIFIED:20250908T092516Z
UID:10000237-1765929600-1766015999@morvan-randonnees.fr
SUMMARY:Randonnée douce - La Planoise
DESCRIPTION:Informations pratiques\n\nRDV à 13h45 – Parking du parcours sportif : chemin à gauche avant l’étang des Cloix\nCovoiturage : départ 13h30 – Rendez-vous au parking de l’Hexagone à Autun\nInscription OBLIGATOIRE : cliquez ICI
URL:https://morvan-randonnees.fr/event/randonnee-douce-la-planoise-2/
LOCATION:Fragny\, Fragny\, 71400\, France
CATEGORIES:Randonnée douce,Randonnées
END:VEVENT
BEGIN:VEVENT
DTSTART;TZID=Europe/Paris:20251220T093000
DTEND;TZID=Europe/Paris:20251220T113000
DTSTAMP:20260422T184815
CREATED:20251103T083321Z
LAST-MODIFIED:20251103T083321Z
UID:10000258-1766223000-1766230200@morvan-randonnees.fr
SUMMARY:Marche Nordique - Saint Forgeot
DESCRIPTION:Informations pratiques\n\nRDV à 9h30 – Parking Les Ruets (au bout du chemin)\nPAS DE COVOITURAGE – Rendez vous au point de départ de la randonnée. \nInscription OBLIGATOIRE : cliquez ICI\n\nEquipement pour une séance de marche nordique :  \n\n Chaussures adaptées\nVêtements adaptés en fonction de la météo \nBâtons de marche nordique \nUne bouteille d’eau et un encas (fruits sec\, barre de céréales\, etc.) \nNe sous-estimez pas l’effort produit au cours d’une séance de marche nordique. C’est pourquoi nous insistons sur la nécessité de cet équipement.
URL:https://morvan-randonnees.fr/event/marche-nordique-saint-forgeot-3/
LOCATION:Saint Forgeot\, France
CATEGORIES:Marche Nordique,Randonnées
END:VEVENT
END:VCALENDAR