BEGIN:VCALENDAR
VERSION:2.0
PRODID:-//Morvan Randonnées - ECPv6.15.20//NONSGML v1.0//EN
CALSCALE:GREGORIAN
METHOD:PUBLISH
X-ORIGINAL-URL:https://morvan-randonnees.fr
X-WR-CALDESC:Évènements pour Morvan Randonnées
REFRESH-INTERVAL;VALUE=DURATION:PT1H
X-Robots-Tag:noindex
X-PUBLISHED-TTL:PT1H
BEGIN:VTIMEZONE
TZID:Europe/Paris
BEGIN:DAYLIGHT
TZOFFSETFROM:+0100
TZOFFSETTO:+0200
TZNAME:CEST
DTSTART:20240331T010000
END:DAYLIGHT
BEGIN:STANDARD
TZOFFSETFROM:+0200
TZOFFSETTO:+0100
TZNAME:CET
DTSTART:20241027T010000
END:STANDARD
BEGIN:DAYLIGHT
TZOFFSETFROM:+0100
TZOFFSETTO:+0200
TZNAME:CEST
DTSTART:20250330T010000
END:DAYLIGHT
BEGIN:STANDARD
TZOFFSETFROM:+0200
TZOFFSETTO:+0100
TZNAME:CET
DTSTART:20251026T010000
END:STANDARD
BEGIN:DAYLIGHT
TZOFFSETFROM:+0100
TZOFFSETTO:+0200
TZNAME:CEST
DTSTART:20260329T010000
END:DAYLIGHT
BEGIN:STANDARD
TZOFFSETFROM:+0200
TZOFFSETTO:+0100
TZNAME:CET
DTSTART:20261025T010000
END:STANDARD
END:VTIMEZONE
BEGIN:VEVENT
DTSTART;VALUE=DATE:20250402
DTEND;VALUE=DATE:20250403
DTSTAMP:20260423T050627
CREATED:20250312T154601Z
LAST-MODIFIED:20250312T154751Z
UID:10000205-1743552000-1743638399@morvan-randonnees.fr
SUMMARY:Randonnée douce - Forêt domaniale des Battées
DESCRIPTION:Informations pratiques\n\nRDV à 13h45 – Parking Chemin forestier forêt domaniale\nCovoiturage : départ 13h15 – Rendez-vous au parking de l’Hexagone à Autun\nInscription OBLIGATOIRE : cliquez ICI
URL:https://morvan-randonnees.fr/event/randonnee-douce-foret-domaniale-des-battees/
LOCATION:Epinac\, France
CATEGORIES:Randonnée douce,Randonnées
END:VEVENT
BEGIN:VEVENT
DTSTART;TZID=Europe/Paris:20250405T090000
DTEND;TZID=Europe/Paris:20250405T110000
DTSTAMP:20260423T050627
CREATED:20250312T154311Z
LAST-MODIFIED:20250312T154321Z
UID:10000204-1743843600-1743850800@morvan-randonnees.fr
SUMMARY:Marche Nordique - Initiation bâtons dynamiques
DESCRIPTION:Informations pratiques\n\nRDV à 9h00 – Parking Espace Sport Nature – Lac du Vallon (Autun)\nInscription OBLIGATOIRE au 06 86 23 27 44\n\nEquipement pour une séance de marche nordique :  \n\n Chaussures adaptées\nVêtements adaptés en fonction de la météo \nBâtons de marche nordique \nUne bouteille d’eau et un encas (fruits sec\, barre de céréales\, etc.) \nNe sous-estimez pas l’effort produit au cours d’une séance de marche nordique. C’est pourquoi nous insistons sur la nécessité de cet équipement.
URL:https://morvan-randonnees.fr/event/marche-nordique-initiation-batons-dynamiques/
LOCATION:Autun\, Autun\, 71400\, France
CATEGORIES:Marche Nordique,Randonnées
END:VEVENT
BEGIN:VEVENT
DTSTART;VALUE=DATE:20250406
DTEND;VALUE=DATE:20250407
DTSTAMP:20260423T050627
CREATED:20250312T160549Z
LAST-MODIFIED:20250312T160549Z
UID:10000213-1743897600-1743983999@morvan-randonnees.fr
SUMMARY:Randonnée classique - Saint-Prix
DESCRIPTION:Informations pratiques\n\nRdv à 13h45 – Parking église\nCovoiturage : départ 13h15 – Rendez-vous au parking de l’Hexagone à Autun\nInscription OBLIGATOIRE : cliquez ICI\n\nRappel de quelques règles pour randonner en toute sécurité : \n\nObligation de respecter le code de la route dès lors qu’on est sur une route (qu’on soit en ville ou en\ncampagne)\nObligation de traverser les routes en peigne\, donc regroupement obligatoire des marcheurs avant la\ntraversée.\nEtre responsable de nos chiens afin qu’ils ne créaient pas d’accidents. Obligation de les tenir en laisse sur\nles routes\, lors des traversées de villages et de fermes.\nObligation de nommer un serre file arrière en début de randonnée. Il aidera l’organisateur à sécuriser la\nsortie.\nMerci d’écouter et de respecter les consignes données par l’organisateur tout au long de la randonnée.
URL:https://morvan-randonnees.fr/event/randonnee-classique-saint-prix/
LOCATION:Saint-Prix\, France
CATEGORIES:Randonnée classique,Randonnées
END:VEVENT
BEGIN:VEVENT
DTSTART;VALUE=DATE:20250410
DTEND;VALUE=DATE:20250411
DTSTAMP:20260423T050627
CREATED:20250312T160744Z
LAST-MODIFIED:20250312T160841Z
UID:10000214-1744243200-1744329599@morvan-randonnees.fr
SUMMARY:Randonnée classique - Montigny-en-Morvan
DESCRIPTION:Informations pratiques\n\nRdv à 14h – Parking église\nCovoiturage : départ 13h15 – Rendez-vous au parking de l’Hexagone à Autun\nInscription OBLIGATOIRE : cliquez ICI\n\nRappel de quelques règles pour randonner en toute sécurité : \n\nObligation de respecter le code de la route dès lors qu’on est sur une route (qu’on soit en ville ou en\ncampagne)\nObligation de traverser les routes en peigne\, donc regroupement obligatoire des marcheurs avant la\ntraversée.\nEtre responsable de nos chiens afin qu’ils ne créaient pas d’accidents. Obligation de les tenir en laisse sur\nles routes\, lors des traversées de villages et de fermes.\nObligation de nommer un serre file arrière en début de randonnée. Il aidera l’organisateur à sécuriser la\nsortie.\nMerci d’écouter et de respecter les consignes données par l’organisateur tout au long de la randonnée.
URL:https://morvan-randonnees.fr/event/randonnee-classique-montigny-en-morvan/
LOCATION:Montigny-en-Morvan\, France
CATEGORIES:Randonnée classique,Randonnées
END:VEVENT
BEGIN:VEVENT
DTSTART;TZID=Europe/Paris:20250412T093000
DTEND;TZID=Europe/Paris:20250412T113000
DTSTAMP:20260423T050627
CREATED:20250312T153247Z
LAST-MODIFIED:20250312T153301Z
UID:10000194-1744450200-1744457400@morvan-randonnees.fr
SUMMARY:Marche Nordique - Dracy St Loup (nouveau parcours)
DESCRIPTION:Informations pratiques\n\nRDV à 9h30 – Parking Surmoulin face à la tronçonneuse en bois\nPAS DE COVOITURAGE – Rendez vous au point de départ de la randonnée. \nInscription OBLIGATOIRE : cliquez ICI\n\nEquipement pour une séance de marche nordique :  \n\n Chaussures adaptées\nVêtements adaptés en fonction de la météo \nBâtons de marche nordique \nUne bouteille d’eau et un encas (fruits sec\, barre de céréales\, etc.) \nNe sous-estimez pas l’effort produit au cours d’une séance de marche nordique. C’est pourquoi nous insistons sur la nécessité de cet équipement.
URL:https://morvan-randonnees.fr/event/marche-nordique-dracy-st-loup-nouveau-parcours/
LOCATION:Dracy St Loup\, France
CATEGORIES:Marche Nordique,Randonnées
END:VEVENT
BEGIN:VEVENT
DTSTART;VALUE=DATE:20250416
DTEND;VALUE=DATE:20250417
DTSTAMP:20260423T050627
CREATED:20250312T154947Z
LAST-MODIFIED:20250312T154947Z
UID:10000206-1744761600-1744847999@morvan-randonnees.fr
SUMMARY:Randonnée douce - Mont Beuvray
DESCRIPTION:Informations pratiques\n\nRdv à 13h45 – Parking musée de Bibracte\nCovoiturage : départ 13h15 – Rendez-vous au parking de l’Hexagone à Autun\nInscription OBLIGATOIRE : cliquez ICI
URL:https://morvan-randonnees.fr/event/randonnee-douce-mont-beuvray/
LOCATION:Mont Beuvray\, France
CATEGORIES:Randonnée douce,Randonnées
END:VEVENT
BEGIN:VEVENT
DTSTART;TZID=Europe/Paris:20250419T093000
DTEND;TZID=Europe/Paris:20250419T113000
DTSTAMP:20260423T050627
CREATED:20250312T153436Z
LAST-MODIFIED:20250312T153436Z
UID:10000196-1745055000-1745062200@morvan-randonnees.fr
SUMMARY:Marche Nordique - Margenne
DESCRIPTION:Informations pratiques\n\nRDV à 9h30 – Parking Transports Fontaine\nPAS DE COVOITURAGE – Rendez vous au point de départ de la randonnée. \nInscription OBLIGATOIRE : cliquez ICI\n\nEquipement pour une séance de marche nordique :  \n\n Chaussures adaptées\nVêtements adaptés en fonction de la météo \nBâtons de marche nordique \nUne bouteille d’eau et un encas (fruits sec\, barre de céréales\, etc.) \nNe sous-estimez pas l’effort produit au cours d’une séance de marche nordique. C’est pourquoi nous insistons sur la nécessité de cet équipement.
URL:https://morvan-randonnees.fr/event/marche-nordique-margenne-16/
LOCATION:Margenne\, Margenne\, SAONE-ET-LOIRE\, 71400\, France
CATEGORIES:Marche Nordique,Randonnées
END:VEVENT
BEGIN:VEVENT
DTSTART;VALUE=DATE:20250424
DTEND;VALUE=DATE:20250425
DTSTAMP:20260423T050627
CREATED:20250312T160030Z
LAST-MODIFIED:20250312T160148Z
UID:10000212-1745452800-1745539199@morvan-randonnees.fr
SUMMARY:Randonnée classique - Marmagne
DESCRIPTION:Informations pratiques\n\nRdv à 13h45 – Parking église\nCovoiturage : départ 13h15 – Rendez-vous au parking de l’Hexagone à Autun\nInscription OBLIGATOIRE : cliquez ICI\n\nRappel de quelques règles pour randonner en toute sécurité : \n\nObligation de respecter le code de la route dès lors qu’on est sur une route (qu’on soit en ville ou en\ncampagne)\nObligation de traverser les routes en peigne\, donc regroupement obligatoire des marcheurs avant la\ntraversée.\nEtre responsable de nos chiens afin qu’ils ne créaient pas d’accidents. Obligation de les tenir en laisse sur\nles routes\, lors des traversées de villages et de fermes.\nObligation de nommer un serre file arrière en début de randonnée. Il aidera l’organisateur à sécuriser la\nsortie.\nMerci d’écouter et de respecter les consignes données par l’organisateur tout au long de la randonnée.
URL:https://morvan-randonnees.fr/event/randonnee-classique-marmagne-2/
LOCATION:Marmagne\, 71710\, France
CATEGORIES:Randonnée classique,Randonnées
END:VEVENT
BEGIN:VEVENT
DTSTART;TZID=Europe/Paris:20250426T093000
DTEND;TZID=Europe/Paris:20250426T113000
DTSTAMP:20260423T050627
CREATED:20250312T153523Z
LAST-MODIFIED:20250312T153540Z
UID:10000197-1745659800-1745667000@morvan-randonnees.fr
SUMMARY:Marche Nordique - Margenne
DESCRIPTION:Informations pratiques\n\nRDV à 9h30 – Parking Transports Fontaine\nPAS DE COVOITURAGE – Rendez vous au point de départ de la randonnée. \nInscription OBLIGATOIRE : cliquez ICI\n\nEquipement pour une séance de marche nordique :  \n\n Chaussures adaptées\nVêtements adaptés en fonction de la météo \nBâtons de marche nordique \nUne bouteille d’eau et un encas (fruits sec\, barre de céréales\, etc.) \nNe sous-estimez pas l’effort produit au cours d’une séance de marche nordique. C’est pourquoi nous insistons sur la nécessité de cet équipement.
URL:https://morvan-randonnees.fr/event/marche-nordique-margenne-17/
LOCATION:Margenne\, Margenne\, SAONE-ET-LOIRE\, 71400\, France
CATEGORIES:Marche Nordique,Randonnées
END:VEVENT
BEGIN:VEVENT
DTSTART;VALUE=DATE:20250430
DTEND;VALUE=DATE:20250501
DTSTAMP:20260423T050627
CREATED:20250312T155051Z
LAST-MODIFIED:20250312T155155Z
UID:10000207-1745971200-1746057599@morvan-randonnees.fr
SUMMARY:Randonnée douce - Saint-Emiland
DESCRIPTION:Informations pratiques\n\nRDV à 13h45 – Parking cimetière\nCovoiturage : départ 13h25 – Rendez-vous au parking de l’Hexagone à Autun\nInscription OBLIGATOIRE : cliquez ICI
URL:https://morvan-randonnees.fr/event/randonnee-douce-saint-emiland-3/
LOCATION:Saint Emiland\, Saint Emiland\, France
CATEGORIES:Randonnée douce,Randonnées
END:VEVENT
END:VCALENDAR