BEGIN:VCALENDAR
VERSION:2.0
PRODID:-//Morvan Randonnées - ECPv6.15.20//NONSGML v1.0//EN
CALSCALE:GREGORIAN
METHOD:PUBLISH
X-ORIGINAL-URL:https://morvan-randonnees.fr
X-WR-CALDESC:Évènements pour Morvan Randonnées
REFRESH-INTERVAL;VALUE=DURATION:PT1H
X-Robots-Tag:noindex
X-PUBLISHED-TTL:PT1H
BEGIN:VTIMEZONE
TZID:Europe/Paris
BEGIN:DAYLIGHT
TZOFFSETFROM:+0100
TZOFFSETTO:+0200
TZNAME:CEST
DTSTART:20240331T010000
END:DAYLIGHT
BEGIN:STANDARD
TZOFFSETFROM:+0200
TZOFFSETTO:+0100
TZNAME:CET
DTSTART:20241027T010000
END:STANDARD
BEGIN:DAYLIGHT
TZOFFSETFROM:+0100
TZOFFSETTO:+0200
TZNAME:CEST
DTSTART:20250330T010000
END:DAYLIGHT
BEGIN:STANDARD
TZOFFSETFROM:+0200
TZOFFSETTO:+0100
TZNAME:CET
DTSTART:20251026T010000
END:STANDARD
BEGIN:DAYLIGHT
TZOFFSETFROM:+0100
TZOFFSETTO:+0200
TZNAME:CEST
DTSTART:20260329T010000
END:DAYLIGHT
BEGIN:STANDARD
TZOFFSETFROM:+0200
TZOFFSETTO:+0100
TZNAME:CET
DTSTART:20261025T010000
END:STANDARD
END:VTIMEZONE
BEGIN:VEVENT
DTSTART;TZID=Europe/Paris:20250201T093000
DTEND;TZID=Europe/Paris:20250201T113000
DTSTAMP:20260423T073234
CREATED:20250106T144656Z
LAST-MODIFIED:20250106T144758Z
UID:10000172-1738402200-1738409400@morvan-randonnees.fr
SUMMARY:Marche Nordique - Margenne
DESCRIPTION:Informations pratiques\n\nRDV à 9h30 – Parking Transports Fontaine\nPAS DE COVOITURAGE – Rendez vous au point de départ de la randonnée. \nInscription OBLIGATOIRE : cliquez ICI\n\nEquipement pour une séance de marche nordique :  \n\n Chaussures adaptées\nVêtements adaptés en fonction de la météo \nBâtons de marche nordique \nUne bouteille d’eau et un encas (fruits sec\, barre de céréales\, etc.) \nNe sous-estimez pas l’effort produit au cours d’une séance de marche nordique. C’est pourquoi nous insistons sur la nécessité de cet équipement.
URL:https://morvan-randonnees.fr/event/marche-nordique-margenne-13/
LOCATION:Margenne\, Margenne\, SAONE-ET-LOIRE\, 71400\, France
CATEGORIES:Marche Nordique,Randonnées
END:VEVENT
BEGIN:VEVENT
DTSTART;VALUE=DATE:20250205
DTEND;VALUE=DATE:20250206
DTSTAMP:20260423T073234
CREATED:20250106T142751Z
LAST-MODIFIED:20250106T142751Z
UID:10000165-1738713600-1738799999@morvan-randonnees.fr
SUMMARY:Randonnée douce - Morlet
DESCRIPTION:Informations pratiques\n\nRDV à 13h45 – Parking près des containers – Route de\nDessous\nCovoiturage : départ 13h15 – Rendez-vous au parking de l’Hexagone à Autun\nInscription OBLIGATOIRE : cliquez ICI
URL:https://morvan-randonnees.fr/event/randonnee-douce-morlet/
LOCATION:Morlet\, France
CATEGORIES:Randonnée douce,Randonnées
END:VEVENT
BEGIN:VEVENT
DTSTART;TZID=Europe/Paris:20250208T093000
DTEND;TZID=Europe/Paris:20250208T113000
DTSTAMP:20260423T073234
CREATED:20250106T144920Z
LAST-MODIFIED:20250106T144920Z
UID:10000173-1739007000-1739014200@morvan-randonnees.fr
SUMMARY:Marche Nordique - Forêt de Feuillée
DESCRIPTION:Informations pratiques\n\nRDV à 9h30 – Parking maison forestière de Feuillée \nPAS DE COVOITURAGE – Rendez vous au point de départ de la randonnée. \nInscription OBLIGATOIRE : cliquez ICI\n\nEquipement pour une séance de marche nordique :  \n\n Chaussures adaptées\nVêtements adaptés en fonction de la météo \nBâtons de marche nordique \nUne bouteille d’eau et un encas (fruits sec\, barre de céréales\, etc.) \nNe sous-estimez pas l’effort produit au cours d’une séance de marche nordique. C’est pourquoi nous insistons sur la nécessité de cet équipement.
URL:https://morvan-randonnees.fr/event/marche-nordique-foret-de-feuillee-8/
LOCATION:Feuillée\, Feuillée\, France
CATEGORIES:Marche Nordique,Randonnées
END:VEVENT
BEGIN:VEVENT
DTSTART;VALUE=DATE:20250209
DTEND;VALUE=DATE:20250210
DTSTAMP:20260423T073234
CREATED:20250106T150809Z
LAST-MODIFIED:20250106T150809Z
UID:10000185-1739059200-1739145599@morvan-randonnees.fr
SUMMARY:Randonnée classique - Autun
DESCRIPTION:Informations pratiques\n\nRdv à 13h45 – Parking Hexagone\nInscription OBLIGATOIRE : cliquez ICI
URL:https://morvan-randonnees.fr/event/randonnee-classique-autun-4/
LOCATION:Autun\, Autun\, 71400\, France
CATEGORIES:Randonnée classique,Randonnées
END:VEVENT
BEGIN:VEVENT
DTSTART;VALUE=DATE:20250213
DTEND;VALUE=DATE:20250214
DTSTAMP:20260423T073234
CREATED:20250106T150945Z
LAST-MODIFIED:20250106T151225Z
UID:10000186-1739404800-1739491199@morvan-randonnees.fr
SUMMARY:Randonnée classique - Saint Léger du Bois
DESCRIPTION:Informations pratiques\n\nRdv à 13h45 – Parking Salle des Fêtes\nCovoiturage : départ 13h15 – Rendez-vous au parking de l’Hexagone à Autun\nInscription OBLIGATOIRE : cliquez ICI
URL:https://morvan-randonnees.fr/event/randonnee-classique-saint-leger-du-bois/
LOCATION:Saint Léger du Bois\, France
CATEGORIES:Randonnée classique,Randonnées
END:VEVENT
BEGIN:VEVENT
DTSTART;TZID=Europe/Paris:20250215T093000
DTEND;TZID=Europe/Paris:20250215T113000
DTSTAMP:20260423T073234
CREATED:20250106T144943Z
LAST-MODIFIED:20250106T144943Z
UID:10000174-1739611800-1739619000@morvan-randonnees.fr
SUMMARY:Marche Nordique - Forêt de Feuillée
DESCRIPTION:Informations pratiques\n\nRDV à 9h30 – Parking maison forestière de Feuillée \nPAS DE COVOITURAGE – Rendez vous au point de départ de la randonnée. \nInscription OBLIGATOIRE : cliquez ICI\n\nEquipement pour une séance de marche nordique :  \n\n Chaussures adaptées\nVêtements adaptés en fonction de la météo \nBâtons de marche nordique \nUne bouteille d’eau et un encas (fruits sec\, barre de céréales\, etc.) \nNe sous-estimez pas l’effort produit au cours d’une séance de marche nordique. C’est pourquoi nous insistons sur la nécessité de cet équipement.
URL:https://morvan-randonnees.fr/event/marche-nordique-foret-de-feuillee-9/
LOCATION:Feuillée\, Feuillée\, France
CATEGORIES:Marche Nordique,Randonnées
END:VEVENT
BEGIN:VEVENT
DTSTART;VALUE=DATE:20250219
DTEND;VALUE=DATE:20250220
DTSTAMP:20260423T073234
CREATED:20250106T142839Z
LAST-MODIFIED:20250106T143057Z
UID:10000166-1739923200-1740009599@morvan-randonnees.fr
SUMMARY:Randonnée douce - Etang de bousson
DESCRIPTION:Informations pratiques\n\nRDV à 13h45 – Parking église Saint Didier-sur-Arroux\nCovoiturage : départ 13h15 – Rendez-vous au parking de l’Hexagone à Autun\nInscription OBLIGATOIRE : cliquez ICI
URL:https://morvan-randonnees.fr/event/randonnee-douce-etang-de-bousson-2/
LOCATION:Etang de Bousson\, France
CATEGORIES:Randonnée douce,Randonnées
END:VEVENT
BEGIN:VEVENT
DTSTART;TZID=Europe/Paris:20250222T080000
DTEND;TZID=Europe/Paris:20250222T170000
DTSTAMP:20260423T073234
CREATED:20250106T145304Z
LAST-MODIFIED:20250106T145304Z
UID:10000177-1740211200-1740243600@morvan-randonnees.fr
SUMMARY:ASSEMBLÉE GÉNÉRALE
DESCRIPTION:Pas de séance\, assemblée générale départementale de la FFR à Autun.\nOuverte à tous les adhérents.
URL:https://morvan-randonnees.fr/event/assemblee-generale/
CATEGORIES:Marche Nordique,Randonnée classique,Randonnée douce,Randonnées
END:VEVENT
BEGIN:VEVENT
DTSTART;VALUE=DATE:20250223
DTEND;VALUE=DATE:20250224
DTSTAMP:20260423T073234
CREATED:20250106T151326Z
LAST-MODIFIED:20250106T151326Z
UID:10000187-1740268800-1740355199@morvan-randonnees.fr
SUMMARY:Randonnée classique - Menessaire
DESCRIPTION:Informations pratiques\n\nRDV à 13h45 – Parking de l’Eglise de Menessaire\nCovoiturage : départ 13h15 – Rendez-vous au parking de l’Hexagone à Autun\nInscription OBLIGATOIRE : cliquez ICI
URL:https://morvan-randonnees.fr/event/randonnee-classique-menessaire-2/
LOCATION:Menessaire\, Menessaire\, Côte d'Or\, 21430\, France
CATEGORIES:Randonnée classique,Randonnées
END:VEVENT
BEGIN:VEVENT
DTSTART;VALUE=DATE:20250227
DTEND;VALUE=DATE:20250228
DTSTAMP:20260423T073234
CREATED:20250106T151547Z
LAST-MODIFIED:20250106T151703Z
UID:10000188-1740614400-1740700799@morvan-randonnees.fr
SUMMARY:Randonnée classique - Nolay
DESCRIPTION:Informations pratiques\n\nRDV à 13h45 – Parking voie verte gare de Nolay\nCovoiturage : départ 13h15 – Rendez-vous au parking de l’Hexagone à Autun\nInscription OBLIGATOIRE : cliquez ICI
URL:https://morvan-randonnees.fr/event/randonnee-classique-nolay/
LOCATION:Nolay\, France
CATEGORIES:Randonnée classique,Randonnées
END:VEVENT
END:VCALENDAR