BEGIN:VCALENDAR
VERSION:2.0
PRODID:-//Morvan Randonnées - ECPv6.15.20//NONSGML v1.0//EN
CALSCALE:GREGORIAN
METHOD:PUBLISH
X-WR-CALNAME:Morvan Randonnées
X-ORIGINAL-URL:https://morvan-randonnees.fr
X-WR-CALDESC:Évènements pour Morvan Randonnées
REFRESH-INTERVAL;VALUE=DURATION:PT1H
X-Robots-Tag:noindex
X-PUBLISHED-TTL:PT1H
BEGIN:VTIMEZONE
TZID:Europe/Paris
BEGIN:DAYLIGHT
TZOFFSETFROM:+0100
TZOFFSETTO:+0200
TZNAME:CEST
DTSTART:20240331T010000
END:DAYLIGHT
BEGIN:STANDARD
TZOFFSETFROM:+0200
TZOFFSETTO:+0100
TZNAME:CET
DTSTART:20241027T010000
END:STANDARD
BEGIN:DAYLIGHT
TZOFFSETFROM:+0100
TZOFFSETTO:+0200
TZNAME:CEST
DTSTART:20250330T010000
END:DAYLIGHT
BEGIN:STANDARD
TZOFFSETFROM:+0200
TZOFFSETTO:+0100
TZNAME:CET
DTSTART:20251026T010000
END:STANDARD
BEGIN:DAYLIGHT
TZOFFSETFROM:+0100
TZOFFSETTO:+0200
TZNAME:CEST
DTSTART:20260329T010000
END:DAYLIGHT
BEGIN:STANDARD
TZOFFSETFROM:+0200
TZOFFSETTO:+0100
TZNAME:CET
DTSTART:20261025T010000
END:STANDARD
END:VTIMEZONE
BEGIN:VEVENT
DTSTART;VALUE=DATE:20250108
DTEND;VALUE=DATE:20250109
DTSTAMP:20260423T090151
CREATED:20250106T142130Z
LAST-MODIFIED:20250106T142326Z
UID:10000163-1736294400-1736380799@morvan-randonnees.fr
SUMMARY:Randonnée douce - Saint-Emiland
DESCRIPTION:Informations pratiques\n\nRDV à 13h45 – Parking cimetière\nCovoiturage : départ 13h25 – Rendez-vous au parking de l’Hexagone à Autun\nInscription OBLIGATOIRE : cliquez ICI
URL:https://morvan-randonnees.fr/event/randonnee-douce-saint-emiland-2/
LOCATION:Saint Emiland\, Saint Emiland\, France
CATEGORIES:Randonnée douce,Randonnées
END:VEVENT
BEGIN:VEVENT
DTSTART;TZID=Europe/Paris:20250111T093000
DTEND;TZID=Europe/Paris:20250111T113000
DTSTAMP:20260423T090151
CREATED:20250106T143924Z
LAST-MODIFIED:20250106T143924Z
UID:10000169-1736587800-1736595000@morvan-randonnees.fr
SUMMARY:Marche Nordique - La Comaille
DESCRIPTION:Informations pratiques\n\nRDV à 9h30 – Parking Pepinière Gey\nPAS DE COVOITURAGE – Rendez vous au point de départ de la randonnée. \nInscription OBLIGATOIRE : cliquez ICI\n\nEquipement pour une séance de marche nordique :  \n\n Chaussures adaptées\nVêtements adaptés en fonction de la météo \nBâtons de marche nordique \nUne bouteille d’eau et un encas (fruits sec\, barre de céréales\, etc.) \nNe sous-estimez pas l’effort produit au cours d’une séance de marche nordique. C’est pourquoi nous insistons sur la nécessité de cet équipement.
URL:https://morvan-randonnees.fr/event/marche-nordique-la-comaille-13/
LOCATION:La Comaille\, La Comaille\, 71400\, France
CATEGORIES:Marche Nordique,Randonnées
END:VEVENT
BEGIN:VEVENT
DTSTART;VALUE=DATE:20250112
DTEND;VALUE=DATE:20250113
DTSTAMP:20260423T090151
CREATED:20250106T145843Z
LAST-MODIFIED:20250106T150818Z
UID:10000181-1736640000-1736726399@morvan-randonnees.fr
SUMMARY:Randonnée classique - Autun
DESCRIPTION:Informations pratiques\n\nGalette après la randonnée !\nRdv à 13h45 – Parking Lidl\nInscription OBLIGATOIRE : cliquez ICI
URL:https://morvan-randonnees.fr/event/randonnee-classique-autun-3/
LOCATION:Autun\, Autun\, 71400\, France
CATEGORIES:Randonnée classique,Randonnées
END:VEVENT
BEGIN:VEVENT
DTSTART;VALUE=DATE:20250116
DTEND;VALUE=DATE:20250117
DTSTAMP:20260423T090151
CREATED:20250106T145956Z
LAST-MODIFIED:20250106T150035Z
UID:10000182-1736985600-1737071999@morvan-randonnees.fr
SUMMARY:Randonnée classique - La Grande-Verrière
DESCRIPTION:Informations pratiques\n\nRdv à 13h45 – Parking mairie\nCovoiturage : départ 13h15 – Rendez-vous au parking de l’Hexagone à Autun\nInscription OBLIGATOIRE : cliquez ICI
URL:https://morvan-randonnees.fr/event/randonnee-classique-la-grande-verriere-4/
LOCATION:La Grande Verrière\, La Grande-Verrière\, France
CATEGORIES:Randonnée classique,Randonnées
END:VEVENT
BEGIN:VEVENT
DTSTART;TZID=Europe/Paris:20250118T093000
DTEND;TZID=Europe/Paris:20250118T113000
DTSTAMP:20260423T090151
CREATED:20250106T144000Z
LAST-MODIFIED:20250106T144000Z
UID:10000170-1737192600-1737199800@morvan-randonnees.fr
SUMMARY:Marche Nordique - La Comaille
DESCRIPTION:Informations pratiques\n\nRDV à 9h30 – Parking Pepinière Gey\nPAS DE COVOITURAGE – Rendez vous au point de départ de la randonnée. \nInscription OBLIGATOIRE : cliquez ICI\n\nEquipement pour une séance de marche nordique :  \n\n Chaussures adaptées\nVêtements adaptés en fonction de la météo \nBâtons de marche nordique \nUne bouteille d’eau et un encas (fruits sec\, barre de céréales\, etc.) \nNe sous-estimez pas l’effort produit au cours d’une séance de marche nordique. C’est pourquoi nous insistons sur la nécessité de cet équipement.
URL:https://morvan-randonnees.fr/event/marche-nordique-la-comaille-14/
LOCATION:La Comaille\, La Comaille\, 71400\, France
CATEGORIES:Marche Nordique,Randonnées
END:VEVENT
BEGIN:VEVENT
DTSTART;VALUE=DATE:20250122
DTEND;VALUE=DATE:20250123
DTSTAMP:20260423T090151
CREATED:20250106T142510Z
LAST-MODIFIED:20250106T142510Z
UID:10000164-1737504000-1737590399@morvan-randonnees.fr
SUMMARY:Randonnée douce - Surmoulin
DESCRIPTION:Informations pratiques\n\nRDV à 13h45 – Parking de Surmoulin\, route d’Arnay-le-Duc\nCovoiturage : départ 13h30 – Rendez-vous au parking de l’Hexagone à Autun\nInscription OBLIGATOIRE : cliquez ICI
URL:https://morvan-randonnees.fr/event/randonnee-douce-surmoulin/
LOCATION:surmoulin\, France
CATEGORIES:Randonnée douce,Randonnées
END:VEVENT
BEGIN:VEVENT
DTSTART;TZID=Europe/Paris:20250125T093000
DTEND;TZID=Europe/Paris:20250125T113000
DTSTAMP:20260423T090151
CREATED:20250106T144529Z
LAST-MODIFIED:20250106T144529Z
UID:10000171-1737797400-1737804600@morvan-randonnees.fr
SUMMARY:Marche Nordique - Margenne
DESCRIPTION:Informations pratiques\n\nRDV à 9h30 – Parking Transports Fontaine\nPAS DE COVOITURAGE – Rendez vous au point de départ de la randonnée. \nInscription OBLIGATOIRE : cliquez ICI\n\nEquipement pour une séance de marche nordique :  \n\n Chaussures adaptées\nVêtements adaptés en fonction de la météo \nBâtons de marche nordique \nUne bouteille d’eau et un encas (fruits sec\, barre de céréales\, etc.) \nNe sous-estimez pas l’effort produit au cours d’une séance de marche nordique. C’est pourquoi nous insistons sur la nécessité de cet équipement.
URL:https://morvan-randonnees.fr/event/marche-nordique-margenne-12/
LOCATION:Margenne\, Margenne\, SAONE-ET-LOIRE\, 71400\, France
CATEGORIES:Marche Nordique,Randonnées
END:VEVENT
BEGIN:VEVENT
DTSTART;VALUE=DATE:20250126
DTEND;VALUE=DATE:20250127
DTSTAMP:20260423T090151
CREATED:20250106T150422Z
LAST-MODIFIED:20250106T150438Z
UID:10000183-1737849600-1737935999@morvan-randonnees.fr
SUMMARY:Randonnée classique - Curgy
DESCRIPTION:Informations pratiques\n\nRdv à 13h45 – Parking mairie\nCovoiturage : départ 13h25 – Rendez-vous au parking de l’Hexagone à Autun\nInscription OBLIGATOIRE : cliquez ICI
URL:https://morvan-randonnees.fr/event/randonnee-classique-curgy/
LOCATION:curgy\, France
CATEGORIES:Randonnée classique,Randonnées
END:VEVENT
BEGIN:VEVENT
DTSTART;VALUE=DATE:20250130
DTEND;VALUE=DATE:20250131
DTSTAMP:20260423T090151
CREATED:20250106T150625Z
LAST-MODIFIED:20250106T150625Z
UID:10000184-1738195200-1738281599@morvan-randonnees.fr
SUMMARY:Randonnée classique - Igornay
DESCRIPTION:Informations pratiques\n\nRdv à 13h45 – La Marenne route de St Leger du Bois\nCovoiturage : départ 13h15 – Rendez-vous au parking de l’Hexagone à Autun\nInscription OBLIGATOIRE : cliquez ICI
URL:https://morvan-randonnees.fr/event/randonnee-classique-igornay/
LOCATION:Igornay\, Igornay\, France
CATEGORIES:Randonnée classique,Randonnées
END:VEVENT
END:VCALENDAR