BEGIN:VCALENDAR
VERSION:2.0
PRODID:-//Morvan Randonnées - ECPv6.15.20//NONSGML v1.0//EN
CALSCALE:GREGORIAN
METHOD:PUBLISH
X-WR-CALNAME:Morvan Randonnées
X-ORIGINAL-URL:https://morvan-randonnees.fr
X-WR-CALDESC:Évènements pour Morvan Randonnées
REFRESH-INTERVAL;VALUE=DURATION:PT1H
X-Robots-Tag:noindex
X-PUBLISHED-TTL:PT1H
BEGIN:VTIMEZONE
TZID:Europe/Paris
BEGIN:DAYLIGHT
TZOFFSETFROM:+0100
TZOFFSETTO:+0200
TZNAME:CEST
DTSTART:20230326T010000
END:DAYLIGHT
BEGIN:STANDARD
TZOFFSETFROM:+0200
TZOFFSETTO:+0100
TZNAME:CET
DTSTART:20231029T010000
END:STANDARD
BEGIN:DAYLIGHT
TZOFFSETFROM:+0100
TZOFFSETTO:+0200
TZNAME:CEST
DTSTART:20240331T010000
END:DAYLIGHT
BEGIN:STANDARD
TZOFFSETFROM:+0200
TZOFFSETTO:+0100
TZNAME:CET
DTSTART:20241027T010000
END:STANDARD
BEGIN:DAYLIGHT
TZOFFSETFROM:+0100
TZOFFSETTO:+0200
TZNAME:CEST
DTSTART:20250330T010000
END:DAYLIGHT
BEGIN:STANDARD
TZOFFSETFROM:+0200
TZOFFSETTO:+0100
TZNAME:CET
DTSTART:20251026T010000
END:STANDARD
END:VTIMEZONE
BEGIN:VEVENT
DTSTART;TZID=Europe/Paris:20240914T093000
DTEND;TZID=Europe/Paris:20240914T113000
DTSTAMP:20260423T151649
CREATED:20240904T071855Z
LAST-MODIFIED:20240904T071855Z
UID:10000133-1726306200-1726313400@morvan-randonnees.fr
SUMMARY:Marche Nordique - Pierre de Couhard
DESCRIPTION:Informations pratiques\n\nRDV à 9h30 – Parking de la Pierre de Couhard\nPAS DE COVOITURAGE – Rendez vous au point de départ de la randonnée. \nInscription OBLIGATOIRE : cliquez ICI\n\nEquipement pour une séance de marche nordique :  \n\n Chaussures adaptées\nVêtements adaptés en fonction de la météo \nBâtons de marche nordique \nUne bouteille d’eau et un encas (fruits sec\, barre de céréales\, etc.) \nNe sous-estimez pas l’effort produit au cours d’une séance de marche nordique. C’est pourquoi nous insistons sur la nécessité de cet équipement.
URL:https://morvan-randonnees.fr/event/marche-nordique-pierre-de-couhard-7/
LOCATION:Couhard\, France
CATEGORIES:Marche Nordique,Randonnées
END:VEVENT
BEGIN:VEVENT
DTSTART;VALUE=DATE:20240915
DTEND;VALUE=DATE:20240916
DTSTAMP:20260423T151649
CREATED:20240904T073151Z
LAST-MODIFIED:20240905T065653Z
UID:10000140-1726358400-1726444799@morvan-randonnees.fr
SUMMARY:Randonnée classique - LA ROCHEPOT
DESCRIPTION:Informations pratiques\n\nRdv à 13h45 – Parking du château de la Rochepot\nCovoiturage : départ 13h15 – Rendez-vous au parking de l’Hexagone à Autun\nInscription OBLIGATOIRE : cliquez ICI
URL:https://morvan-randonnees.fr/event/randonnee-classique-la-rochepot/
LOCATION:La Rochepot\, France
CATEGORIES:Randonnée classique,Randonnées
END:VEVENT
BEGIN:VEVENT
DTSTART;VALUE=DATE:20240919
DTEND;VALUE=DATE:20240920
DTSTAMP:20260423T151649
CREATED:20240904T073247Z
LAST-MODIFIED:20240905T065655Z
UID:10000141-1726704000-1726790399@morvan-randonnees.fr
SUMMARY:Randonnée classique - Reclesne
DESCRIPTION:Informations pratiques\n\nRdv à 13h45 – Parking mairie\nCovoiturage : départ 13h20 – Rendez-vous au parking de l’Hexagone à Autun\nInscription OBLIGATOIRE : cliquez ICI
URL:https://morvan-randonnees.fr/event/randonnee-classique-reclesne-3/
LOCATION:Reclesne\, Reclesne\, France
CATEGORIES:Randonnée classique,Randonnées
END:VEVENT
BEGIN:VEVENT
DTSTART;VALUE=DATE:20240920
DTEND;VALUE=DATE:20240921
DTSTAMP:20260423T151649
CREATED:20240904T073611Z
LAST-MODIFIED:20240905T065658Z
UID:10000142-1726790400-1726876799@morvan-randonnees.fr
SUMMARY:Randonnée classique - ANZY LE DUC (journée entière)
DESCRIPTION:Informations pratiques\n\nRdv à 10h00 – Parking de l’église\nCovoiturage : départ 08h30 – Rendez-vous au parking de l’Hexagone à Autun\nInscription OBLIGATOIRE : cliquez ICI
URL:https://morvan-randonnees.fr/event/randonnee-classique-anzy-le-duc-journee-entiere/
LOCATION:anzy le duc\, France
CATEGORIES:Randonnée classique,Randonnées
END:VEVENT
BEGIN:VEVENT
DTSTART;VALUE=DATE:20240920
DTEND;VALUE=DATE:20240923
DTSTAMP:20260423T151649
CREATED:20240904T074650Z
LAST-MODIFIED:20240904T074650Z
UID:10000150-1726790400-1727049599@morvan-randonnees.fr
SUMMARY:WEEKEND BEAUJOLAIS VERT (20 au 22 septembre)
DESCRIPTION:Informations pratiques\nSur inscription ; réservé aux adhérents
URL:https://morvan-randonnees.fr/event/weekend-beaujolais-vert-20-au-22-septembre/
CATEGORIES:Randonnée classique,Randonnées
END:VEVENT
BEGIN:VEVENT
DTSTART;TZID=Europe/Paris:20240921T093000
DTEND;TZID=Europe/Paris:20240921T113000
DTSTAMP:20260423T151649
CREATED:20240904T071945Z
LAST-MODIFIED:20240904T071945Z
UID:10000134-1726911000-1726918200@morvan-randonnees.fr
SUMMARY:Marche Nordique - Pierre de Couhard
DESCRIPTION:Informations pratiques\n\nRDV à 9h30 – Parking de la Pierre de Couhard\nPAS DE COVOITURAGE – Rendez vous au point de départ de la randonnée. \nInscription OBLIGATOIRE : cliquez ICI\n\nEquipement pour une séance de marche nordique :  \n\n Chaussures adaptées\nVêtements adaptés en fonction de la météo \nBâtons de marche nordique \nUne bouteille d’eau et un encas (fruits sec\, barre de céréales\, etc.) \nNe sous-estimez pas l’effort produit au cours d’une séance de marche nordique. C’est pourquoi nous insistons sur la nécessité de cet équipement.
URL:https://morvan-randonnees.fr/event/marche-nordique-pierre-de-couhard-8/
LOCATION:Couhard\, France
CATEGORIES:Marche Nordique,Randonnées
END:VEVENT
BEGIN:VEVENT
DTSTART;VALUE=DATE:20240925
DTEND;VALUE=DATE:20240926
DTSTAMP:20260423T151649
CREATED:20240904T070754Z
LAST-MODIFIED:20240905T102452Z
UID:10000126-1727222400-1727308799@morvan-randonnees.fr
SUMMARY:Randonnée douce - Fragny
DESCRIPTION:Informations pratiques\n\nRDV à 13h45 – Parking de l’Etang des Cloix\nCovoiturage : départ 13h30 – Rendez-vous au parking de l’Hexagone à Autun\nInscription OBLIGATOIRE : cliquez ICI
URL:https://morvan-randonnees.fr/event/randonnee-douce-fragny-3/
LOCATION:Fragny\, Fragny\, 71400\, France
CATEGORIES:Randonnée douce,Randonnées
END:VEVENT
BEGIN:VEVENT
DTSTART;TZID=Europe/Paris:20240928T093000
DTEND;TZID=Europe/Paris:20240928T113000
DTSTAMP:20260423T151649
CREATED:20240904T072027Z
LAST-MODIFIED:20240904T072027Z
UID:10000135-1727515800-1727523000@morvan-randonnees.fr
SUMMARY:Marche Nordique - Forêt de Feuillée
DESCRIPTION:Informations pratiques\n\nRDV à 9h30 – Parking maison forestière de Feuillée \nPAS DE COVOITURAGE – Rendez vous au point de départ de la randonnée. \nInscription OBLIGATOIRE : cliquez ICI\n\nEquipement pour une séance de marche nordique :  \n\n Chaussures adaptées\nVêtements adaptés en fonction de la météo \nBâtons de marche nordique \nUne bouteille d’eau et un encas (fruits sec\, barre de céréales\, etc.) \nNe sous-estimez pas l’effort produit au cours d’une séance de marche nordique. C’est pourquoi nous insistons sur la nécessité de cet équipement.
URL:https://morvan-randonnees.fr/event/marche-nordique-foret-de-feuillee-6/
LOCATION:Feuillée\, Feuillée\, France
CATEGORIES:Marche Nordique,Randonnées
END:VEVENT
BEGIN:VEVENT
DTSTART;VALUE=DATE:20240929
DTEND;VALUE=DATE:20240930
DTSTAMP:20260423T151649
CREATED:20240904T073729Z
LAST-MODIFIED:20240905T065659Z
UID:10000143-1727568000-1727654399@morvan-randonnees.fr
SUMMARY:Randonnée classique - La Chapelle sous Uchon
DESCRIPTION:Informations pratiques\n\nRdv à 13h45 – Parking église\nCovoiturage : départ 13h15 – Rendez-vous au parking de l’Hexagone à Autun\nInscription OBLIGATOIRE : cliquez ICI
URL:https://morvan-randonnees.fr/event/randonnee-classique-la-chapelle-sous-uchon-2/
LOCATION:La Chapelle sous Uchon\, La Chapelle sous Uchon\, 71190
CATEGORIES:Randonnée classique,Randonnées
END:VEVENT
END:VCALENDAR