BEGIN:VCALENDAR
VERSION:2.0
PRODID:-//Morvan Randonnées - ECPv6.15.20//NONSGML v1.0//EN
CALSCALE:GREGORIAN
METHOD:PUBLISH
X-ORIGINAL-URL:https://morvan-randonnees.fr
X-WR-CALDESC:Évènements pour Morvan Randonnées
REFRESH-INTERVAL;VALUE=DURATION:PT1H
X-Robots-Tag:noindex
X-PUBLISHED-TTL:PT1H
BEGIN:VTIMEZONE
TZID:Europe/Paris
BEGIN:DAYLIGHT
TZOFFSETFROM:+0100
TZOFFSETTO:+0200
TZNAME:CEST
DTSTART:20250330T010000
END:DAYLIGHT
BEGIN:STANDARD
TZOFFSETFROM:+0200
TZOFFSETTO:+0100
TZNAME:CET
DTSTART:20251026T010000
END:STANDARD
BEGIN:DAYLIGHT
TZOFFSETFROM:+0100
TZOFFSETTO:+0200
TZNAME:CEST
DTSTART:20260329T010000
END:DAYLIGHT
BEGIN:STANDARD
TZOFFSETFROM:+0200
TZOFFSETTO:+0100
TZNAME:CET
DTSTART:20261025T010000
END:STANDARD
BEGIN:DAYLIGHT
TZOFFSETFROM:+0100
TZOFFSETTO:+0200
TZNAME:CEST
DTSTART:20270328T010000
END:DAYLIGHT
BEGIN:STANDARD
TZOFFSETFROM:+0200
TZOFFSETTO:+0100
TZNAME:CET
DTSTART:20271031T010000
END:STANDARD
END:VTIMEZONE
BEGIN:VEVENT
DTSTART;VALUE=DATE:20260501
DTEND;VALUE=DATE:20260505
DTSTAMP:20260421T090437
CREATED:20260324T083126Z
LAST-MODIFIED:20260324T085331Z
UID:10000305-1777593600-1777939199@morvan-randonnees.fr
SUMMARY:Randonnée douce - WEEKEND EN MOSELLE
DESCRIPTION:Informations pratiques\n\nSur inscription\, réservé aux adhérents\nInscription OBLIGATOIRE : cliquez ICI
URL:https://morvan-randonnees.fr/event/randonnee-douce-weekend-en-moselle-2/
LOCATION:Moselle\, France
CATEGORIES:Randonnée douce,Randonnées
END:VEVENT
BEGIN:VEVENT
DTSTART;VALUE=DATE:20260513
DTEND;VALUE=DATE:20260514
DTSTAMP:20260421T090437
CREATED:20260324T085156Z
LAST-MODIFIED:20260324T091010Z
UID:10000307-1778630400-1778716799@morvan-randonnees.fr
SUMMARY:Randonnée douce - Mont Beuvray
DESCRIPTION:Informations pratiques\n\nDépart à 13h45 – Parking musée Bibracte\nRendez-vous au parking de l’Hexagone à Autun à 13h15\nInscription OBLIGATOIRE : cliquez ICI
URL:https://morvan-randonnees.fr/event/randonnee-douce-mont-beuvray-3/
LOCATION:Mont Beuvray\, France
CATEGORIES:Randonnée douce,Randonnées
END:VEVENT
BEGIN:VEVENT
DTSTART;VALUE=DATE:20260527
DTEND;VALUE=DATE:20260528
DTSTAMP:20260421T090437
CREATED:20260324T082831Z
LAST-MODIFIED:20260324T082831Z
UID:10000302-1779840000-1779926399@morvan-randonnees.fr
SUMMARY:Randonnée douce - Uchon
DESCRIPTION:Informations pratiques\n\nRdv à 13h45 – Parking Auberge de la Croix Messire Jean\nRendez-vous au parking de l’Hexagone à Autun à 13h15\nInscription OBLIGATOIRE : cliquez ICI
URL:https://morvan-randonnees.fr/event/randonnee-douce-uchon/
LOCATION:Uchon\, France
CATEGORIES:Randonnée douce,Randonnées
END:VEVENT
END:VCALENDAR