BEGIN:VCALENDAR
VERSION:2.0
PRODID:-//Morvan Randonnées - ECPv6.15.20//NONSGML v1.0//EN
CALSCALE:GREGORIAN
METHOD:PUBLISH
X-ORIGINAL-URL:https://morvan-randonnees.fr
X-WR-CALDESC:Évènements pour Morvan Randonnées
REFRESH-INTERVAL;VALUE=DURATION:PT1H
X-Robots-Tag:noindex
X-PUBLISHED-TTL:PT1H
BEGIN:VTIMEZONE
TZID:Europe/Paris
BEGIN:DAYLIGHT
TZOFFSETFROM:+0100
TZOFFSETTO:+0200
TZNAME:CEST
DTSTART:20250330T010000
END:DAYLIGHT
BEGIN:STANDARD
TZOFFSETFROM:+0200
TZOFFSETTO:+0100
TZNAME:CET
DTSTART:20251026T010000
END:STANDARD
BEGIN:DAYLIGHT
TZOFFSETFROM:+0100
TZOFFSETTO:+0200
TZNAME:CEST
DTSTART:20260329T010000
END:DAYLIGHT
BEGIN:STANDARD
TZOFFSETFROM:+0200
TZOFFSETTO:+0100
TZNAME:CET
DTSTART:20261025T010000
END:STANDARD
BEGIN:DAYLIGHT
TZOFFSETFROM:+0100
TZOFFSETTO:+0200
TZNAME:CEST
DTSTART:20270328T010000
END:DAYLIGHT
BEGIN:STANDARD
TZOFFSETFROM:+0200
TZOFFSETTO:+0100
TZNAME:CET
DTSTART:20271031T010000
END:STANDARD
END:VTIMEZONE
BEGIN:VEVENT
DTSTART;VALUE=DATE:20260308
DTEND;VALUE=DATE:20260309
DTSTAMP:20260423T105639
CREATED:20251216T143943Z
LAST-MODIFIED:20251216T143954Z
UID:10000287-1772928000-1773014399@morvan-randonnees.fr
SUMMARY:Randonnée classique - Morlet
DESCRIPTION:Informations pratiques\n\nRdv à 13h45 – Parking près des containers\, route du Dessous\nCovoiturage : départ 13h15\n\nInscription OBLIGATOIRE : cliquez ICI
URL:https://morvan-randonnees.fr/event/randonnee-classique-morlet/
LOCATION:Morlet\, France
CATEGORIES:Randonnée classique,Randonnées
END:VEVENT
BEGIN:VEVENT
DTSTART;VALUE=DATE:20260312
DTEND;VALUE=DATE:20260313
DTSTAMP:20260423T105639
CREATED:20251216T144054Z
LAST-MODIFIED:20251216T144054Z
UID:10000288-1773273600-1773359999@morvan-randonnees.fr
SUMMARY:Randonnée classique - Roussillon-en-Morvan
DESCRIPTION:Informations pratiques\n\nRdv à 13h45 – Parking église\nCovoiturage : départ 13h15\n\nInscription OBLIGATOIRE : cliquez ICI
URL:https://morvan-randonnees.fr/event/randonnee-classique-roussillon-en-morvan-2/
LOCATION:Roussillon en Morvan\, France
CATEGORIES:Randonnée classique,Randonnées
END:VEVENT
BEGIN:VEVENT
DTSTART;VALUE=DATE:20260322
DTEND;VALUE=DATE:20260323
DTSTAMP:20260423T105639
CREATED:20251216T144219Z
LAST-MODIFIED:20251216T144227Z
UID:10000289-1774137600-1774223999@morvan-randonnees.fr
SUMMARY:Randonnée classique - Creusevaux (Reclesne)
DESCRIPTION:Informations pratiques\n\nRdv à 13h45 – Parking/ regroupement place de l’église\, Reclesne. Départ de Creusevaux\nCovoiturage : départ 13h15\n\nInscription OBLIGATOIRE : cliquez ICI
URL:https://morvan-randonnees.fr/event/randonnee-classique-creusevaux-reclesne/
LOCATION:Reclesne\, Reclesne\, France
CATEGORIES:Randonnée classique,Randonnées
END:VEVENT
BEGIN:VEVENT
DTSTART;VALUE=DATE:20260326
DTEND;VALUE=DATE:20260327
DTSTAMP:20260423T105639
CREATED:20251216T144356Z
LAST-MODIFIED:20260316T153430Z
UID:10000290-1774483200-1774569599@morvan-randonnees.fr
SUMMARY:Randonnée classique - La Commelle
DESCRIPTION:Informations pratiques\n\nRdv à 13h45 – Parking place du village\nCovoiturage : départ 13h15\n\nInscription OBLIGATOIRE : cliquez ICI
URL:https://morvan-randonnees.fr/event/randonnee-classique-la-commelle/
LOCATION:La Commelle\, France
CATEGORIES:Randonnée classique,Randonnées
END:VEVENT
END:VCALENDAR