BEGIN:VCALENDAR
VERSION:2.0
PRODID:-//Morvan Randonnées - ECPv6.15.20//NONSGML v1.0//EN
CALSCALE:GREGORIAN
METHOD:PUBLISH
X-ORIGINAL-URL:https://morvan-randonnees.fr
X-WR-CALDESC:Évènements pour Morvan Randonnées
REFRESH-INTERVAL;VALUE=DURATION:PT1H
X-Robots-Tag:noindex
X-PUBLISHED-TTL:PT1H
BEGIN:VTIMEZONE
TZID:Europe/Paris
BEGIN:DAYLIGHT
TZOFFSETFROM:+0100
TZOFFSETTO:+0200
TZNAME:CEST
DTSTART:20250330T010000
END:DAYLIGHT
BEGIN:STANDARD
TZOFFSETFROM:+0200
TZOFFSETTO:+0100
TZNAME:CET
DTSTART:20251026T010000
END:STANDARD
BEGIN:DAYLIGHT
TZOFFSETFROM:+0100
TZOFFSETTO:+0200
TZNAME:CEST
DTSTART:20260329T010000
END:DAYLIGHT
BEGIN:STANDARD
TZOFFSETFROM:+0200
TZOFFSETTO:+0100
TZNAME:CET
DTSTART:20261025T010000
END:STANDARD
BEGIN:DAYLIGHT
TZOFFSETFROM:+0100
TZOFFSETTO:+0200
TZNAME:CEST
DTSTART:20270328T010000
END:DAYLIGHT
BEGIN:STANDARD
TZOFFSETFROM:+0200
TZOFFSETTO:+0100
TZNAME:CET
DTSTART:20271031T010000
END:STANDARD
END:VTIMEZONE
BEGIN:VEVENT
DTSTART;VALUE=DATE:20260111
DTEND;VALUE=DATE:20260112
DTSTAMP:20260423T134948
CREATED:20251216T142421Z
LAST-MODIFIED:20251216T142518Z
UID:10000279-1768089600-1768175999@morvan-randonnees.fr
SUMMARY:Randonnée classique - Autun
DESCRIPTION:Informations pratiques\n\nRdv à 13h45 – Parking EVA\nGalette après la randonnée\n\nInscription OBLIGATOIRE : cliquez ICI
URL:https://morvan-randonnees.fr/event/randonnee-classique-autun-5/
LOCATION:Autun\, Autun\, 71400\, France
CATEGORIES:Randonnée classique,Randonnées
END:VEVENT
BEGIN:VEVENT
DTSTART;VALUE=DATE:20260115
DTEND;VALUE=DATE:20260116
DTSTAMP:20260423T134948
CREATED:20251216T142846Z
LAST-MODIFIED:20251216T142927Z
UID:10000280-1768435200-1768521599@morvan-randonnees.fr
SUMMARY:Randonnée classique - La Feuillée
DESCRIPTION:Informations pratiques\n\nRdv à 13h45 – Parking Maison forestière de la feuillée\nCovoiturage : départ 13h30\n\nInscription OBLIGATOIRE : cliquez ICI
URL:https://morvan-randonnees.fr/event/randonnee-classique-la-feuillee/
LOCATION:Feuillée\, Feuillée\, France
CATEGORIES:Randonnée classique,Randonnées
END:VEVENT
BEGIN:VEVENT
DTSTART;VALUE=DATE:20260125
DTEND;VALUE=DATE:20260126
DTSTAMP:20260423T134948
CREATED:20251216T143041Z
LAST-MODIFIED:20251216T143041Z
UID:10000281-1769299200-1769385599@morvan-randonnees.fr
SUMMARY:Randonnée classique - Barnay
DESCRIPTION:Informations pratiques\n\nRdv à 13h45 – Parking église\nCovoiturage : départ 13h15\n\nInscription OBLIGATOIRE : cliquez ICI
URL:https://morvan-randonnees.fr/event/randonnee-classique-barnay-2/
LOCATION:Barnay\, France
CATEGORIES:Randonnée classique,Randonnées
END:VEVENT
BEGIN:VEVENT
DTSTART;VALUE=DATE:20260129
DTEND;VALUE=DATE:20260130
DTSTAMP:20260423T134948
CREATED:20251216T143224Z
LAST-MODIFIED:20251216T143224Z
UID:10000282-1769644800-1769731199@morvan-randonnees.fr
SUMMARY:Randonnée classique - Lieu dit Le Sault
DESCRIPTION:Informations pratiques\n\nRdv à 13h45 – Parking Route de la Grande Verrière D3\, lieu-dit Le Sault\nCovoiturage : départ 13h15\n\nInscription OBLIGATOIRE : cliquez ICI
URL:https://morvan-randonnees.fr/event/randonnee-classique-lieu-dit-le-sault/
LOCATION:Le Sault\, France
CATEGORIES:Randonnée classique,Randonnées
END:VEVENT
END:VCALENDAR