BEGIN:VCALENDAR
VERSION:2.0
PRODID:-//Morvan Randonnées - ECPv6.15.20//NONSGML v1.0//EN
CALSCALE:GREGORIAN
METHOD:PUBLISH
X-ORIGINAL-URL:https://morvan-randonnees.fr
X-WR-CALDESC:Évènements pour Morvan Randonnées
REFRESH-INTERVAL;VALUE=DURATION:PT1H
X-Robots-Tag:noindex
X-PUBLISHED-TTL:PT1H
BEGIN:VTIMEZONE
TZID:Europe/Paris
BEGIN:DAYLIGHT
TZOFFSETFROM:+0100
TZOFFSETTO:+0200
TZNAME:CEST
DTSTART:20230326T010000
END:DAYLIGHT
BEGIN:STANDARD
TZOFFSETFROM:+0200
TZOFFSETTO:+0100
TZNAME:CET
DTSTART:20231029T010000
END:STANDARD
BEGIN:DAYLIGHT
TZOFFSETFROM:+0100
TZOFFSETTO:+0200
TZNAME:CEST
DTSTART:20240331T010000
END:DAYLIGHT
BEGIN:STANDARD
TZOFFSETFROM:+0200
TZOFFSETTO:+0100
TZNAME:CET
DTSTART:20241027T010000
END:STANDARD
BEGIN:DAYLIGHT
TZOFFSETFROM:+0100
TZOFFSETTO:+0200
TZNAME:CEST
DTSTART:20250330T010000
END:DAYLIGHT
BEGIN:STANDARD
TZOFFSETFROM:+0200
TZOFFSETTO:+0100
TZNAME:CET
DTSTART:20251026T010000
END:STANDARD
END:VTIMEZONE
BEGIN:VEVENT
DTSTART;VALUE=DATE:20241110
DTEND;VALUE=DATE:20241111
DTSTAMP:20260424T085614
CREATED:20241028T092526Z
LAST-MODIFIED:20241028T092838Z
UID:10000159-1731196800-1731283199@morvan-randonnees.fr
SUMMARY:Randonnée classique - Brion
DESCRIPTION:Informations pratiques\n\nRdv à 13h45 – Parking salle des fêtes\nCovoiturage : départ 13h20\nInscription OBLIGATOIRE : cliquez ICI
URL:https://morvan-randonnees.fr/event/randonnee-classique-brion/
LOCATION:Brion\, France
CATEGORIES:Randonnée classique,Randonnées
END:VEVENT
BEGIN:VEVENT
DTSTART;VALUE=DATE:20241114
DTEND;VALUE=DATE:20241115
DTSTAMP:20260424T085614
CREATED:20241028T092315Z
LAST-MODIFIED:20241028T092326Z
UID:10000157-1731542400-1731628799@morvan-randonnees.fr
SUMMARY:Randonnée classique - Sommant
DESCRIPTION:Informations pratiques\n\nRdv à 13h45 – Parking auberge\nCovoiturage : départ 13h20 – Rendez-vous au parking de l’Hexagone à Autun\nInscription OBLIGATOIRE : cliquez ICI
URL:https://morvan-randonnees.fr/event/randonnee-classique-sommant-2/
LOCATION:sommant\, Sommant\, SAONE-ET-LOIRE\, 71540\, France
CATEGORIES:Randonnée classique,Randonnées
END:VEVENT
BEGIN:VEVENT
DTSTART;VALUE=DATE:20241124
DTEND;VALUE=DATE:20241125
DTSTAMP:20260424T085614
CREATED:20241028T092811Z
LAST-MODIFIED:20241028T104515Z
UID:10000160-1732406400-1732492799@morvan-randonnees.fr
SUMMARY:Randonnée classique - Epinac
DESCRIPTION:Informations pratiques\n\nRdv à 13h45 – Parking salle des fêtes\nCovoiturage : départ 13h20 – Rendez-vous au parking de l’Hexagone à Autun\nInscription OBLIGATOIRE : cliquez ICI
URL:https://morvan-randonnees.fr/event/randonnee-classique-epinac/
LOCATION:Epinac\, France
CATEGORIES:Randonnée classique,Randonnées
END:VEVENT
BEGIN:VEVENT
DTSTART;VALUE=DATE:20241128
DTEND;VALUE=DATE:20241129
DTSTAMP:20260424T085614
CREATED:20241028T093019Z
LAST-MODIFIED:20241028T093019Z
UID:10000161-1732752000-1732838399@morvan-randonnees.fr
SUMMARY:Randonnée classique - Mont Beuvray
DESCRIPTION:Informations pratiques\n\nRdv à 13h45 – Parking musée de Bibracte\nCovoiturage : départ 13h15 – Rendez-vous au parking de l’Hexagone à Autun\nInscription OBLIGATOIRE : cliquez ICI
URL:https://morvan-randonnees.fr/event/randonnee-classique-mont-beuvray/
LOCATION:Mont Beuvray\, France
CATEGORIES:Randonnée classique,Randonnées
END:VEVENT
END:VCALENDAR