BEGIN:VCALENDAR
VERSION:2.0
PRODID:-//Morvan Randonnées - ECPv6.15.20//NONSGML v1.0//EN
CALSCALE:GREGORIAN
METHOD:PUBLISH
X-ORIGINAL-URL:https://morvan-randonnees.fr
X-WR-CALDESC:Évènements pour Morvan Randonnées
REFRESH-INTERVAL;VALUE=DURATION:PT1H
X-Robots-Tag:noindex
X-PUBLISHED-TTL:PT1H
BEGIN:VTIMEZONE
TZID:Europe/Paris
BEGIN:DAYLIGHT
TZOFFSETFROM:+0100
TZOFFSETTO:+0200
TZNAME:CEST
DTSTART:20230326T010000
END:DAYLIGHT
BEGIN:STANDARD
TZOFFSETFROM:+0200
TZOFFSETTO:+0100
TZNAME:CET
DTSTART:20231029T010000
END:STANDARD
BEGIN:DAYLIGHT
TZOFFSETFROM:+0100
TZOFFSETTO:+0200
TZNAME:CEST
DTSTART:20240331T010000
END:DAYLIGHT
BEGIN:STANDARD
TZOFFSETFROM:+0200
TZOFFSETTO:+0100
TZNAME:CET
DTSTART:20241027T010000
END:STANDARD
BEGIN:DAYLIGHT
TZOFFSETFROM:+0100
TZOFFSETTO:+0200
TZNAME:CEST
DTSTART:20250330T010000
END:DAYLIGHT
BEGIN:STANDARD
TZOFFSETFROM:+0200
TZOFFSETTO:+0100
TZNAME:CET
DTSTART:20251026T010000
END:STANDARD
END:VTIMEZONE
BEGIN:VEVENT
DTSTART;VALUE=DATE:20241003
DTEND;VALUE=DATE:20241004
DTSTAMP:20260424T100217
CREATED:20240904T073814Z
LAST-MODIFIED:20240905T065701Z
UID:10000144-1727913600-1727999999@morvan-randonnees.fr
SUMMARY:Randonnée classique - Lucenay-l'Évêque
DESCRIPTION:Informations pratiques\n\nRdv à 13h45 – Parking église\nCovoiturage : départ 13h20 – Rendez-vous au parking de l’Hexagone à Autun\nInscription OBLIGATOIRE : cliquez ICI
URL:https://morvan-randonnees.fr/event/randonnee-classique-lucenay-leveque-2/
LOCATION:Lucenay L’Eveque\, Lucenay l'Eveque\, 71540\, France
CATEGORIES:Randonnée classique,Randonnées
END:VEVENT
BEGIN:VEVENT
DTSTART;VALUE=DATE:20241013
DTEND;VALUE=DATE:20241014
DTSTAMP:20260424T100217
CREATED:20240904T074009Z
LAST-MODIFIED:20240905T065704Z
UID:10000145-1728777600-1728863999@morvan-randonnees.fr
SUMMARY:Randonnée classique - Rully (journée entière)
DESCRIPTION:Informations pratiques\n\nRdv à 09h30 – Parking château\nCovoiturage : départ 08h30 – Rendez-vous au parking de l’Hexagone à Autun\nInscription OBLIGATOIRE : cliquez ICI
URL:https://morvan-randonnees.fr/event/randonnee-classique-rully-journee-entiere/
LOCATION:Rully\, France
CATEGORIES:Randonnée classique,Randonnées
END:VEVENT
BEGIN:VEVENT
DTSTART;VALUE=DATE:20241017
DTEND;VALUE=DATE:20241018
DTSTAMP:20260424T100217
CREATED:20240904T074151Z
LAST-MODIFIED:20240905T065706Z
UID:10000146-1729123200-1729209599@morvan-randonnees.fr
SUMMARY:Randonnée classique - Moux en Morvan
DESCRIPTION:Informations pratiques\n\nRdv à 13h45 – Parking salle des fêtes\nCovoiturage : départ 13h15 – Rendez-vous au parking de l’Hexagone à Autun\nInscription OBLIGATOIRE : cliquez ICI
URL:https://morvan-randonnees.fr/event/randonnee-classique-moux-en-morvan-3/
LOCATION:Moux en Morvan\, Moux en Morvan\, France\, 58230
CATEGORIES:Randonnée classique,Randonnées
END:VEVENT
BEGIN:VEVENT
DTSTART;VALUE=DATE:20241027
DTEND;VALUE=DATE:20241028
DTSTAMP:20260424T100217
CREATED:20240904T074357Z
LAST-MODIFIED:20240905T065708Z
UID:10000147-1729987200-1730073599@morvan-randonnees.fr
SUMMARY:Randonnée classique - Chissey en Morvan
DESCRIPTION:Informations pratiques\n\nRdv à 13h45 – Parking salle des fêtes\nCovoiturage : départ 13h15 – Rendez-vous au parking de l’Hexagone à Autun\nInscription OBLIGATOIRE : cliquez ICI
URL:https://morvan-randonnees.fr/event/randonnee-classique-chissey-en-morvan/
LOCATION:Chissey en Morvan\, France
CATEGORIES:Randonnée classique,Randonnées
END:VEVENT
BEGIN:VEVENT
DTSTART;VALUE=DATE:20241031
DTEND;VALUE=DATE:20241101
DTSTAMP:20260424T100217
CREATED:20240904T074507Z
LAST-MODIFIED:20240905T065711Z
UID:10000149-1730332800-1730419199@morvan-randonnees.fr
SUMMARY:Randonnée classique - Anost
DESCRIPTION:Informations pratiques\n\nRdv à 13h45 – Parking mairie\nCovoiturage : départ 13h15 – Rendez-vous au parking de l’Hexagone à Autun\nInscription OBLIGATOIRE : cliquez ICI
URL:https://morvan-randonnees.fr/event/randonnee-classique-anost/
LOCATION:Anost\, Anost\, 71550\, France
CATEGORIES:Randonnée classique,Randonnées
END:VEVENT
END:VCALENDAR