BEGIN:VCALENDAR
VERSION:2.0
PRODID:-//Morvan Randonnées - ECPv6.15.20//NONSGML v1.0//EN
CALSCALE:GREGORIAN
METHOD:PUBLISH
X-WR-CALNAME:Morvan Randonnées
X-ORIGINAL-URL:https://morvan-randonnees.fr
X-WR-CALDESC:Évènements pour Morvan Randonnées
REFRESH-INTERVAL;VALUE=DURATION:PT1H
X-Robots-Tag:noindex
X-PUBLISHED-TTL:PT1H
BEGIN:VTIMEZONE
TZID:Europe/Paris
BEGIN:DAYLIGHT
TZOFFSETFROM:+0100
TZOFFSETTO:+0200
TZNAME:CEST
DTSTART:20220327T010000
END:DAYLIGHT
BEGIN:STANDARD
TZOFFSETFROM:+0200
TZOFFSETTO:+0100
TZNAME:CET
DTSTART:20221030T010000
END:STANDARD
BEGIN:DAYLIGHT
TZOFFSETFROM:+0100
TZOFFSETTO:+0200
TZNAME:CEST
DTSTART:20230326T010000
END:DAYLIGHT
BEGIN:STANDARD
TZOFFSETFROM:+0200
TZOFFSETTO:+0100
TZNAME:CET
DTSTART:20231029T010000
END:STANDARD
BEGIN:DAYLIGHT
TZOFFSETFROM:+0100
TZOFFSETTO:+0200
TZNAME:CEST
DTSTART:20240331T010000
END:DAYLIGHT
BEGIN:STANDARD
TZOFFSETFROM:+0200
TZOFFSETTO:+0100
TZNAME:CET
DTSTART:20241027T010000
END:STANDARD
END:VTIMEZONE
BEGIN:VEVENT
DTSTART;TZID=Europe/Paris:20231007T093000
DTEND;TZID=Europe/Paris:20231007T113000
DTSTAMP:20260425T024656
CREATED:20230828T133721Z
LAST-MODIFIED:20230828T133721Z
UID:10000027-1696671000-1696678200@morvan-randonnees.fr
SUMMARY:Marche Nordique - Forêt de Feuillée
DESCRIPTION:Informations pratiques\n\nRDV à 9h30 – Parking maison forestière de Feuillée \nPAS DE COVOITURAGE – Rendez vous au point de départ de la randonnée. \nInscription OBLIGATOIRE : cliquez ICI\n\nEquipement pour une séance de marche nordique :  \n\n Chaussures adaptées\nVêtements adaptés en fonction de la météo \nBâtons de marche nordique \nUne bouteille d’eau et un encas (fruits sec\, barre de céréales\, etc.) \nNe sous-estimez pas l’effort produit au cours d’une séance de marche nordique. C’est pourquoi nous insistons sur la nécessité de cet équipement.
URL:https://morvan-randonnees.fr/event/marche-nordique-foret-de-feuillee-2/
LOCATION:Feuillée\, Feuillée\, France
CATEGORIES:Marche Nordique,Randonnées
END:VEVENT
BEGIN:VEVENT
DTSTART;TZID=Europe/Paris:20231011T093000
DTEND;TZID=Europe/Paris:20231011T113000
DTSTAMP:20260425T024656
CREATED:20230828T134421Z
LAST-MODIFIED:20230828T134421Z
UID:10000031-1697016600-1697023800@morvan-randonnees.fr
SUMMARY:Marche Nordique - Lucenay l'Eveque
DESCRIPTION:Informations pratiques\n\nRDV à 9h – Parking \nPAS DE COVOITURAGE – Rendez vous au point de départ de la randonnée. \nInscription OBLIGATOIRE : cliquez ICI\n\nEquipement pour une séance de marche nordique :  \n\n Chaussures adaptées\nVêtements adaptés en fonction de la météo \nBâtons de marche nordique \nUne bouteille d’eau et un encas (fruits sec\, barre de céréales\, etc.) \nNe sous-estimez pas l’effort produit au cours d’une séance de marche nordique. C’est pourquoi nous insistons sur la nécessité de cet équipement.
URL:https://morvan-randonnees.fr/event/marche-nordique-lucenay-leveque/
LOCATION:Lucenay L’Eveque\, Lucenay l'Eveque\, 71540\, France
CATEGORIES:Marche Nordique,Randonnées
END:VEVENT
BEGIN:VEVENT
DTSTART;VALUE=DATE:20231014
DTEND;VALUE=DATE:20231015
DTSTAMP:20260425T024656
CREATED:20230828T132211Z
LAST-MODIFIED:20230927T072107Z
UID:10000021-1697241600-1697327999@morvan-randonnees.fr
SUMMARY:Assemblée Générale - Autun
DESCRIPTION:Informations pratiques\n\nRdv à 13h45 – Parking cimetière Autun
URL:https://morvan-randonnees.fr/event/assemblee-generale-autun/
LOCATION:Autun\, Autun\, 71400\, France
CATEGORIES:Marche Nordique,Randonnée classique,Randonnée douce,Randonnées
END:VEVENT
BEGIN:VEVENT
DTSTART;TZID=Europe/Paris:20231021T093000
DTEND;TZID=Europe/Paris:20231021T113000
DTSTAMP:20260425T024656
CREATED:20230828T133916Z
LAST-MODIFIED:20230828T133916Z
UID:10000028-1697880600-1697887800@morvan-randonnees.fr
SUMMARY:Marche Nordique - La Comaille
DESCRIPTION:Informations pratiques\n\nRDV à 9h30 – Parking Pépinière Gey \nPAS DE COVOITURAGE – Rendez vous au point de départ de la randonnée. \nInscription OBLIGATOIRE : cliquez ICI\n\nEquipement pour une séance de marche nordique :  \n\n Chaussures adaptées\nVêtements adaptés en fonction de la météo \nBâtons de marche nordique \nUne bouteille d’eau et un encas (fruits sec\, barre de céréales\, etc.) \nNe sous-estimez pas l’effort produit au cours d’une séance de marche nordique. C’est pourquoi nous insistons sur la nécessité de cet équipement.
URL:https://morvan-randonnees.fr/event/marche-nordique-la-comaille/
LOCATION:La Comaille\, La Comaille\, 71400\, France
CATEGORIES:Marche Nordique,Randonnées
END:VEVENT
BEGIN:VEVENT
DTSTART;TZID=Europe/Paris:20231025T093000
DTEND;TZID=Europe/Paris:20231025T113000
DTSTAMP:20260425T024656
CREATED:20230828T133309Z
LAST-MODIFIED:20230828T133401Z
UID:10000025-1698226200-1698233400@morvan-randonnees.fr
SUMMARY:Marche Nordique - Pierre de Couhard
DESCRIPTION:Informations pratiques\n\nRDV à 9h30 – Parking de la Pierre de Couhard\nPAS DE COVOITURAGE – Rendez vous au point de départ de la randonnée. \nInscription OBLIGATOIRE : cliquez ICI\n\nEquipement pour une séance de marche nordique :  \n\n Chaussures adaptées\nVêtements adaptés en fonction de la météo \nBâtons de marche nordique \nUne bouteille d’eau et un encas (fruits sec\, barre de céréales\, etc.) \nNe sous-estimez pas l’effort produit au cours d’une séance de marche nordique. C’est pourquoi nous insistons sur la nécessité de cet équipement.
URL:https://morvan-randonnees.fr/event/marche-nordique-pierre-de-couhard-4/
LOCATION:Couhard\, France
CATEGORIES:Marche Nordique,Randonnées
END:VEVENT
BEGIN:VEVENT
DTSTART;TZID=Europe/Paris:20231028T093000
DTEND;TZID=Europe/Paris:20231028T113000
DTSTAMP:20260425T024656
CREATED:20230828T134010Z
LAST-MODIFIED:20230828T134010Z
UID:10000029-1698485400-1698492600@morvan-randonnees.fr
SUMMARY:Marche Nordique - La Comaille
DESCRIPTION:Informations pratiques\n\nRDV à 9h30 – Parking Pépinière Gey \nPAS DE COVOITURAGE – Rendez vous au point de départ de la randonnée. \nInscription OBLIGATOIRE : cliquez ICI\n\nEquipement pour une séance de marche nordique :  \n\n Chaussures adaptées\nVêtements adaptés en fonction de la météo \nBâtons de marche nordique \nUne bouteille d’eau et un encas (fruits sec\, barre de céréales\, etc.) \nNe sous-estimez pas l’effort produit au cours d’une séance de marche nordique. C’est pourquoi nous insistons sur la nécessité de cet équipement.
URL:https://morvan-randonnees.fr/event/marche-nordique-la-comaille-2/
LOCATION:La Comaille\, La Comaille\, 71400\, France
CATEGORIES:Marche Nordique,Randonnées
END:VEVENT
END:VCALENDAR