BEGIN:VCALENDAR
VERSION:2.0
PRODID:-//Morvan Randonnées - ECPv6.15.20//NONSGML v1.0//EN
CALSCALE:GREGORIAN
METHOD:PUBLISH
X-WR-CALNAME:Morvan Randonnées
X-ORIGINAL-URL:https://morvan-randonnees.fr
X-WR-CALDESC:Évènements pour Morvan Randonnées
REFRESH-INTERVAL;VALUE=DURATION:PT1H
X-Robots-Tag:noindex
X-PUBLISHED-TTL:PT1H
BEGIN:VTIMEZONE
TZID:Europe/Paris
BEGIN:DAYLIGHT
TZOFFSETFROM:+0100
TZOFFSETTO:+0200
TZNAME:CEST
DTSTART:20240331T010000
END:DAYLIGHT
BEGIN:STANDARD
TZOFFSETFROM:+0200
TZOFFSETTO:+0100
TZNAME:CET
DTSTART:20241027T010000
END:STANDARD
BEGIN:DAYLIGHT
TZOFFSETFROM:+0100
TZOFFSETTO:+0200
TZNAME:CEST
DTSTART:20250330T010000
END:DAYLIGHT
BEGIN:STANDARD
TZOFFSETFROM:+0200
TZOFFSETTO:+0100
TZNAME:CET
DTSTART:20251026T010000
END:STANDARD
BEGIN:DAYLIGHT
TZOFFSETFROM:+0100
TZOFFSETTO:+0200
TZNAME:CEST
DTSTART:20260329T010000
END:DAYLIGHT
BEGIN:STANDARD
TZOFFSETFROM:+0200
TZOFFSETTO:+0100
TZNAME:CET
DTSTART:20261025T010000
END:STANDARD
END:VTIMEZONE
BEGIN:VEVENT
DTSTART;VALUE=DATE:20250501
DTEND;VALUE=DATE:20250505
DTSTAMP:20260423T050426
CREATED:20250312T161132Z
LAST-MODIFIED:20250312T161132Z
UID:10000216-1746057600-1746403199@morvan-randonnees.fr
SUMMARY:Week-end rando classique - LE PARC DES VOLCANS D’AUVERGNE
DESCRIPTION:Informations pratiques\nSur inscription\, réservé aux adhérents \nRappel de quelques règles pour randonner en toute sécurité : \n\nObligation de respecter le code de la route dès lors qu’on est sur une route (qu’on soit en ville ou en\ncampagne)\nObligation de traverser les routes en peigne\, donc regroupement obligatoire des marcheurs avant la\ntraversée.\nEtre responsable de nos chiens afin qu’ils ne créaient pas d’accidents. Obligation de les tenir en laisse sur\nles routes\, lors des traversées de villages et de fermes.\nObligation de nommer un serre file arrière en début de randonnée. Il aidera l’organisateur à sécuriser la\nsortie.\nMerci d’écouter et de respecter les consignes données par l’organisateur tout au long de la randonnée.
URL:https://morvan-randonnees.fr/event/week-end-rando-classique-le-parc-des-volcans-dauvergne/
LOCATION:Auvergne\, France
CATEGORIES:Randonnée classique,Randonnées
END:VEVENT
BEGIN:VEVENT
DTSTART;TZID=Europe/Paris:20250503T093000
DTEND;TZID=Europe/Paris:20250503T113000
DTSTAMP:20260423T050426
CREATED:20250312T153658Z
LAST-MODIFIED:20250312T153658Z
UID:10000199-1746264600-1746271800@morvan-randonnees.fr
SUMMARY:Marche Nordique - La Comaille
DESCRIPTION:Informations pratiques\n\nRDV à 9h30 – Parking Pepinière Gey\nPAS DE COVOITURAGE – Rendez vous au point de départ de la randonnée. \nInscription OBLIGATOIRE : cliquez ICI\n\nEquipement pour une séance de marche nordique :  \n\n Chaussures adaptées\nVêtements adaptés en fonction de la météo \nBâtons de marche nordique \nUne bouteille d’eau et un encas (fruits sec\, barre de céréales\, etc.) \nNe sous-estimez pas l’effort produit au cours d’une séance de marche nordique. C’est pourquoi nous insistons sur la nécessité de cet équipement.
URL:https://morvan-randonnees.fr/event/marche-nordique-la-comaille-16/
LOCATION:La Comaille\, La Comaille\, 71400\, France
CATEGORIES:Marche Nordique,Randonnées
END:VEVENT
END:VCALENDAR